BEGIN:VCALENDAR
VERSION:2.0
PRODID:-//ChamberMaster//Event Calendar 2.0//EN
METHOD:PUBLISH
X-PUBLISHED-TTL:P3D
REFRESH-INTERVAL:P3D
CALSCALE:GREGORIAN
BEGIN:VEVENT
DTSTART:20260803T193000Z
DTEND:20260803T210000Z
X-MICROSOFT-CDO-ALLDAYEVENT:FALSE
SUMMARY:"Make it Monday" forum - Alaska’s BEAD Broadband Funding Awards | What It Means for Anchorage Businesses and Beyond
DESCRIPTION:Alaska is on the cusp of the largest broadband investment in state history\, with nearly $629 million in federal BEAD (Broadband Equity\, Access\, and Deployment) funding approved to expand high speed internet access statewide. This "Make it Monday" forum will bring together Alaska's leading telecommunications providers to discuss how these investments will be deployed (with an emphasis on Anchorage\, Eagle River and Mat-Su) and what expanded broadband access means for economic development\, healthcare\, education and business growth.\n\n\n\nPanelists from Alaska Communications\, GCI and MTA will provide a high-level overview of their company's BEAD awards and share perspectives on project priorities and timelines.\n\n\n\nPLUS\, a member presentation\, TBD.\n\n\nHave a specific question for the presenters?\n\n ASK IT HERE\n\n\n\n\n	New to Monday Forum? What to expect\n	Join our members-only Facebook group for updates\n	Sign up for Monday forum emails\n	Present at a Monday forum - Submit a proposal \n	Sponsor free lunch door prizes\n	Donate a door prize\n\n\n\n \nUPCOMING FORUMS\n\n\n\n\nMay 4"Make it Monday" forum - Chugach Electric Board of Directors Candidate Forum\n\nMay 11"Make it Monday" forum - Celebrating the America250: Alaska's Week of Dreams\n\nMay 18"Make it Monday" forum - Alaska Airlines\n\nMay 25No Monday forum - Memorial Day\n\nJun 1"Make it Monday" forum - Anchorage Assembly Member Meet & Greet\n\nJun 8"Make it Monday" forum - Restoring Trust: Helping Families Rebuild After Fraud\n\nJun 15"Make it Monday" forum - Juneteenth + Ebony Aurora Awards\n\nJul 20"Make it Monday" forum - Alaska Pollock 101 | Demystifying an Economic Engine of Alaska\n\nAug 3"Make it Monday" forum - Alaska's BEAD Broadband Funding Awards | What It Means for Anchorage Businesses and Beyond\n\nAug 31"Make it Monday" forum - Bettisworth North\n\n\n\n\n/**/
X-ALT-DESC;FMTTYPE=text/html:<div trebuchet="">\n<p>Alaska is on the cusp of the largest broadband investment in state history\, with nearly $629 million in federal <strong>BEAD (Broadband Equity\, Access\, and Deployment)</strong> funding approved to expand high speed internet access statewide. This &ldquo\;Make it Monday&rdquo\; forum will bring together Alaska&rsquo\;s leading telecommunications providers to discuss how these investments will be deployed (with an emphasis on Anchorage\, Eagle River and Mat-Su) and what expanded broadband access means for economic development\, healthcare\, education and business growth.<br />\n<br />\nPanelists from Alaska Communications\, GCI and MTA will provide a high-level overview of their company&rsquo\;s BEAD awards and share perspectives on project priorities and timelines.<br />\n<br />\n<em>PLUS\,</em> a member presentation\, TBD.</p>\n\n<hr />\n<p><strong>Have a specific question for the presenters?</strong><br />\n&#8203\;<a href="https://forms.gle/2ESkdKtaiXKAQ2RD9" target="_blank">ASK IT HERE</a></p>\n\n<div>\n<hr />\n<ul>\n	<li><strong>New to Monday Forum?</strong>&nbsp\;<strong><a href="https://www.anchoragechamber.org/make-it-monday/" target="_blank">What to expect</a></strong></li>\n	<li><strong><a href="https://www.facebook.com/groups/anchoragechamber" target="_blank">Join our members-only Facebook group</a></strong>&nbsp\;for updates</li>\n	<li><strong><a href="https://business.anchoragechamber.org/communication" target="_blank">Sign up</a></strong>&nbsp\;for Monday forum emails</li>\n	<li>Present&nbsp\;at a Monday forum -&nbsp\;<strong><a href="https://www.anchoragechamber.org/make-it-monday/" target="_blank">Submit a proposal</a>&nbsp\;</strong></li>\n	<li><strong><a href="https://drive.google.com/file/d/116RJc7vDgDAaqkoPGtR62IeGNt8TPBP6/view?usp=sharing" target="_blank">Sponsor</a></strong>&nbsp\;free lunch door prizes</li>\n	<li>Donate a&nbsp\;<a href="https://form.jotform.com/242197249944064" target="_blank"><strong>door prize</strong></a></li>\n</ul>\n</div>\n\n<hr />&nbsp\;\n<h5>UPCOMING FORUMS</h5>\n\n<div class="mn-widget-loaded" id="mni-widgets-1648068081583">\n<div class="mn-scroll-container" type="3">\n<div class="mn-scroll-slider">\n<div class="mn-scroll-item"><span class="mn-scroll-date">May 4</span><a class="mn-scroll-name mn-scroll-link" href="https://business.anchoragechamber.org/events/details/make-it-monday-forum-chugach-electric-board-of-directors-candidate-forum-14790" target="_blank">&quot\;Make it Monday&quot\; forum - Chugach Electric Board of Directors Candidate Forum</a></div>\n\n<div class="mn-scroll-item"><span class="mn-scroll-date">May 11</span><a class="mn-scroll-name mn-scroll-link" href="https://business.anchoragechamber.org/events/details/make-it-monday-forum-celebrating-the-america250-alaska-s-week-of-dreams-14805" target="_blank">&quot\;Make it Monday&quot\; forum - Celebrating the America250: Alaska&#39\;s Week of Dreams</a></div>\n\n<div class="mn-scroll-item"><span class="mn-scroll-date">May 18</span><a class="mn-scroll-name mn-scroll-link" href="https://business.anchoragechamber.org/events/details/make-it-monday-forum-14826" target="_blank">&quot\;Make it Monday&quot\; forum - Alaska Airlines</a></div>\n\n<div class="mn-scroll-item"><span class="mn-scroll-date">May 25</span><a class="mn-scroll-name mn-scroll-link" href="https://business.anchoragechamber.org/events/details/no-monday-forum-memorial-day-05-25-2026-13039" target="_blank">No Monday forum - Memorial Day</a></div>\n\n<div class="mn-scroll-item"><span class="mn-scroll-date">Jun 1</span><a class="mn-scroll-name mn-scroll-link" href="https://business.anchoragechamber.org/events/details/make-it-monday-forum-anchorage-assembly-member-meet-greet-14867" target="_blank">&quot\;Make it Monday&quot\; forum - Anchorage Assembly Member Meet &amp\; Greet</a></div>\n\n<div class="mn-scroll-item"><span class="mn-scroll-date">Jun 8</span><a class="mn-scroll-name mn-scroll-link" href="https://business.anchoragechamber.org/events/details/make-it-monday-forum-restoring-trust-helping-families-rebuild-after-fraud-14897" target="_blank">&quot\;Make it Monday&quot\; forum - Restoring Trust: Helping Families Rebuild After Fraud</a></div>\n\n<div class="mn-scroll-item"><span class="mn-scroll-date">Jun 15</span><a class="mn-scroll-name mn-scroll-link" href="https://business.anchoragechamber.org/events/details/make-it-monday-forum-juneteenth-ebony-aurora-awards-14792" target="_blank">&quot\;Make it Monday&quot\; forum - Juneteenth + Ebony Aurora Awards</a></div>\n\n<div class="mn-scroll-item"><span class="mn-scroll-date">Jul 20</span><a class="mn-scroll-name mn-scroll-link" href="https://business.anchoragechamber.org/events/details/make-it-monday-forum-alaska-pollock-101-demystifying-an-economic-engine-of-alaska-14919" target="_blank">&quot\;Make it Monday&quot\; forum - Alaska Pollock 101 | Demystifying an Economic Engine of Alaska</a></div>\n\n<div class="mn-scroll-item"><span class="mn-scroll-date">Aug 3</span><a class="mn-scroll-name mn-scroll-link" href="https://business.anchoragechamber.org/events/details/make-it-monday-forum-alaska-s-bead-broadband-funding-awards-what-it-means-for-anchorage-businesses-and-beyond-14925" target="_blank">&quot\;Make it Monday&quot\; forum - Alaska&rsquo\;s BEAD Broadband Funding Awards | What It Means for Anchorage Businesses and Beyond</a></div>\n\n<div class="mn-scroll-item"><span class="mn-scroll-date">Aug 31</span><a class="mn-scroll-name mn-scroll-link" href="https://business.anchoragechamber.org/events/details/make-it-monday-forum-bettisworth-north-14866" target="_blank">&quot\;Make it Monday&quot\; forum - Bettisworth North</a></div>\n</div>\n</div>\n</div>\n<script type="text/javascript">\n/*<![CDATA[*/\nvar _mniwq=_mniwq||[]\;\n_mniwq.push(["1648068081583.type"\,"events_upcoming"]\,["1648068081583.display"\,"text"]\,["1648068081583.category"\,24]\,["1648068081583.marquee"\,false]\,["1648068081583.showEndDate"\,false]\,["1648068081583.showLocation"\,false]\,["1648068081583.showLinks"\,true]\,["1648068081583.popUp"\,true]\,["1648068081583.dateFormat"\,"MMM d"]\,["1648068081583.styleTemplate"\,"#@id .mn-scroll-container{font-family:Oxygen\,sans-serif\;font-size:16px\;line-height:130%\;margin:8px\;position:relative}#@id .mn-scroll-item{-moz-border-radius:5px\;-webkit-border-radius:5px\;background-clip:padding-box\;background-color:#277BE7\;border-radius:5px\;color:#FFFFFF\;margin:0 0 4px\;position:relative}#@id .mn-scroll-item:hover{background-color:#BFD6F2\;color:#FFFFFF}#@id .mn-scroll-name\,#@id .mn-scroll-teaser{display:block\;padding:5px 3px 5px 58px\;position:relative}#@id .mn-scroll-link{color:inherit\;text-decoration:none}#@id .mn-scroll-link:hover{text-decoration:underline}#@id .mn-scroll-date{font-size:75%\;font-weight:700\;left:3px\;position:absolute\;text-align:center\;top:5px\;width:50px}"]\,["1648068081583.create"\,"mni-widgets-1648068081583"])\;\n(function(b\,d\,a\,c){b.getElementById(d)||(c=b.getElementsByTagName(a)[0]\,a=b.createElement(a)\,a.type="text/javascript"\,a.async=!0\,a.src="https://business.anchoragechamber.org/Content/Script/Widgets.js"\,c.parentNode.insertBefore(a\,c))})(document\,"mni-widgets-script"\,"script")\;\n/*]]>*/\n</script></div>\n\n<div>&nbsp\;</div>\n
LOCATION:Dena'ina Center\, 2nd floor
UID:e.1417.14925
SEQUENCE:3
DTSTAMP:20260425T030103Z
URL:https://business.anchoragechamber.org/events/details/make-it-monday-forum-alaska-s-bead-broadband-funding-awards-what-it-means-for-anchorage-businesses-and-beyond-14925
END:VEVENT

END:VCALENDAR
