BEGIN:VCALENDAR
VERSION:2.0
PRODID:-//ChamberMaster//Event Calendar 2.0//EN
METHOD:PUBLISH
X-PUBLISHED-TTL:P3D
REFRESH-INTERVAL:P3D
CALSCALE:GREGORIAN
BEGIN:VEVENT
DTSTART:20260202T203000Z
DTEND:20260202T220000Z
X-MICROSOFT-CDO-ALLDAYEVENT:FALSE
SUMMARY:"Make it Monday" forum - Trident Seafoods: Anchored in Alaska
DESCRIPTION:ONLINE REGISTRATION IS CLOSED. Please be sure to register for the  Monday forums by 5 pm the Thursday prior. Walk-in entry is not guaranteed.\n\n \n\n\n\n\nTrident Seafoods is a fishing company founded over 50 years ago by a fisherman aboard a boat in the Bering Sea. For 40 years\, Trident's founder\, Chuck Bundrant\, led the company with fearless vision\, taking bold steps not only to grow Trident\, but to elevate the entire seafood industry. In 2013\, Chuck passed the torch to his son Joe\, born in Kodiak\, whose leadership continues to carry forward a culture of passion and innovation.\n\n\n\nTrident has been deeply rooted in Alaska's coastal communities for over half a century. They opened their Anchorage office three years ago to better support our operations and community engagement.\n\n\n\nToday\, their Anchorage office serves as a vital hub for our Alaska activities. Each year\, they coordinate travel for over 8\,000 employees across the state. The office also houses our Skilled Trades Program coordination\, provides workspace for our environmental compliance and mechanical engineering teams\, and serves as a venue for meetings\, policy discussions\, and community outreach.\n\n\n\nStefanie Moreland\, Executive Vice President of Public Affairs and Anchorage resident\, will share insights into how Alaska's fisheries are economically interconnected with key industries such as freight\, fuel\, aviation\, telecommunications\, cooperative cold storage\, and employment. She will also discuss how fisheries are managed at both the state and federal levels\, our collaborations with universities on research initiatives\, and Trident's internal gear innovation projects\, all aimed at continuously improving practices and maintaining Alaska's reputation for having the best-managed fisheries in the world.\n\n\n\nPLUS\, a member presentation from Fur Rondy.\n\n \n\n\n\n\nStefanie Moreland is the Vice President of Government Relations and Corporate Social Responsibility for Trident Seafoods and a member of its Executive Team. Trident owns and operates primary seafood processing facilities in twelve Alaska coastal communities serving over 1\,000 independent harvesters and its own modern fleet. Trident is a leader in product development for wild Alaska seafood\, reaching markets in 50 countries with wild Alaska seafood products from its facilities in the U.S.\, Japan\, Germany\, China\, and Latin America. \n\n\n\nMs. Moreland has more than 20 years of experience in natural resource management and public policy development\, primarily in the Alaska region. She has been an active participant in multi-stakeholder forums addressing fisheries management\, marine ecosystem research\, and global seafood standards and benchmarking initiatives. She is committed to promoting best practices in fisheries conservation\, supply chain transparency\, and ethical and responsible living and workplace conditions in the seafood industry. \n\n \n\n\nHave a specific question for the presenters?\n\n ASK IT HERE\n\n\n\n\n	New to Monday Forum? What to expect\n	Join our members-only Facebook group for updates\n	Sign up for Monday forum emails\n	Present at a Monday forum - Submit a proposal \n	Sponsor free lunch door prizes\n	Donate a door prize\n\n\n\n \nUPCOMING FORUMS\n\n\n\n\nFeb 2"Make it Monday" forum - Trident Seafoods: Anchored in Alaska\n\nFeb 9"Make it Monday" forum - It Takes a Community: Partners in Sustainable Childcare\n\nFeb 16No Monday forum - Presidents' Day\n\nFeb 23"Make it Monday" forum - Leading in a Changing Economy: Practical Tools to Strengthen Your Business and Elevate Your Leadership\n\nMar 2"Make it Monday" forum - MOA & ASD Budgets & Bonds\n\nMar 9"Make it Monday" forum\n\nMar 16No Monday forum\n\nMar 23"Make it Monday" forum - Innovation in health care: How Providence Alaska is leveraging technology to deliver high-quality care close to home\n\nMar 30"Make it Monday" forum - Shiloh Community Housing Inc.\n\nApr 6"Make it Monday" forum - Alaska Work and Save- Strengthening Local Businesses and its Employees for Years to Come\n\n\n\n\n/**/
X-ALT-DESC;FMTTYPE=text/html:<div trebuchet="">\n<p><strong><span style="color:#FF0000\;">ONLINE REGISTRATION IS CLOSED.</span> Please be sure to register for the&nbsp\; Monday forums by 5 pm the Thursday prior. Walk-in entry is not guaranteed.</strong><br />\n&nbsp\;</p>\n\n<hr />\n<p><br />\nTrident Seafoods is a fishing company founded over 50 years ago by a fisherman aboard a boat in the Bering Sea. For 40 years\, Trident&rsquo\;s founder\, Chuck Bundrant\, led the company with fearless vision\, taking bold steps not only to grow Trident\, but to elevate the entire seafood industry. In 2013\, Chuck passed the torch to his son Joe\, born in Kodiak\, whose leadership continues to carry forward a culture of passion and innovation.<br />\n<br />\nTrident has been deeply rooted in Alaska&rsquo\;s coastal communities for over half a century. They&nbsp\;opened their Anchorage office three years ago to better support our operations and community engagement.<br />\n<br />\nToday\, their Anchorage office serves as a vital hub for our Alaska activities. Each year\, they&nbsp\;coordinate travel for over 8\,000 employees across the state. The office also houses our Skilled Trades Program coordination\, provides workspace for our environmental compliance and mechanical engineering teams\, and serves as a venue for meetings\, policy discussions\, and community outreach.<br />\n<br />\n<strong>Stefanie Moreland\, Executive Vice President of Public Affairs</strong> and Anchorage resident\, will share insights into how Alaska&rsquo\;s fisheries are economically interconnected with key industries such as freight\, fuel\, aviation\, telecommunications\, cooperative cold storage\, and employment. She will also discuss how fisheries are managed at both the state and federal levels\, our collaborations with universities on research initiatives\, and Trident&rsquo\;s internal gear innovation projects\, all aimed at continuously improving practices and maintaining Alaska&rsquo\;s reputation for having the best-managed fisheries in the world.<br />\n<br />\n<em>PLUS</em>\, a member presentation from <strong>Fur Rondy.</strong><br />\n&nbsp\;</p>\n\n<hr />\n<p><br />\n<strong>Stefanie Moreland</strong> is the Vice President of Government Relations and Corporate Social Responsibility for Trident Seafoods and a member of its Executive Team. Trident owns and operates primary seafood processing facilities in twelve Alaska coastal communities serving over 1\,000 independent harvesters and its own modern fleet. Trident is a leader in product development for wild Alaska seafood\, reaching markets in 50 countries with wild Alaska seafood products from its facilities in the U.S.\, Japan\, Germany\, China\, and Latin America.&nbsp\;<br />\n<br />\nMs. Moreland has more than 20 years of experience in natural resource management and public policy development\, primarily in the Alaska region. She has been an active participant in multi-stakeholder forums addressing fisheries management\, marine ecosystem research\, and global seafood standards and benchmarking initiatives. She is committed to promoting best practices in fisheries conservation\, supply chain transparency\, and ethical and responsible living and workplace conditions in the seafood industry.&nbsp\;<br />\n&nbsp\;</p>\n\n<hr />\n<p><strong>Have a specific question for the presenters?</strong><br />\n&#8203\;<a href="https://forms.gle/2ESkdKtaiXKAQ2RD9" target="_blank">ASK IT HERE</a></p>\n\n<div>\n<hr />\n<ul>\n	<li><strong>New to Monday Forum?</strong>&nbsp\;<strong><a href="https://www.anchoragechamber.org/make-it-monday/" target="_blank">What to expect</a></strong></li>\n	<li><strong><a href="https://www.facebook.com/groups/anchoragechamber" target="_blank">Join our members-only Facebook group</a></strong>&nbsp\;for updates</li>\n	<li><strong><a href="https://business.anchoragechamber.org/communication" target="_blank">Sign up</a></strong>&nbsp\;for Monday forum emails</li>\n	<li>Present&nbsp\;at a Monday forum -&nbsp\;<strong><a href="https://www.anchoragechamber.org/make-it-monday/" target="_blank">Submit a proposal</a>&nbsp\;</strong></li>\n	<li><strong><a href="https://drive.google.com/file/d/116RJc7vDgDAaqkoPGtR62IeGNt8TPBP6/view?usp=sharing" target="_blank">Sponsor</a></strong>&nbsp\;free lunch door prizes</li>\n	<li>Donate a&nbsp\;<a href="https://form.jotform.com/242197249944064" target="_blank"><strong>door prize</strong></a></li>\n</ul>\n</div>\n\n<hr />&nbsp\;\n<h5>UPCOMING FORUMS</h5>\n\n<div class="mn-widget-loaded" id="mni-widgets-1648068081583">\n<div class="mn-scroll-container" type="3">\n<div class="mn-scroll-slider">\n<div class="mn-scroll-item"><span class="mn-scroll-date">Feb 2</span><a class="mn-scroll-name mn-scroll-link" href="https://business.anchoragechamber.org/events/details/make-it-monday-forum-trident-seafoods-anchored-in-alaska-14763" target="_blank">&quot\;Make it Monday&quot\; forum - Trident Seafoods: Anchored in Alaska</a></div>\n\n<div class="mn-scroll-item"><span class="mn-scroll-date">Feb 9</span><a class="mn-scroll-name mn-scroll-link" href="https://business.anchoragechamber.org/events/details/make-it-monday-forum-it-takes-a-community-partners-in-sustainable-childcare-14764" target="_blank">&quot\;Make it Monday&quot\; forum - It Takes a Community: Partners in Sustainable Childcare</a></div>\n\n<div class="mn-scroll-item"><span class="mn-scroll-date">Feb 16</span><a class="mn-scroll-name mn-scroll-link" href="https://business.anchoragechamber.org/events/details/no-monday-forum-presidents-day-02-16-2026-13017" target="_blank">No Monday forum - Presidents&#39\; Day</a></div>\n\n<div class="mn-scroll-item"><span class="mn-scroll-date">Feb 23</span><a class="mn-scroll-name mn-scroll-link" href="https://business.anchoragechamber.org/events/details/make-it-monday-forum-leading-in-a-changing-economy-practical-tools-to-strengthen-your-business-and-elevate-your-leadership-14765" target="_blank">&quot\;Make it Monday&quot\; forum - Leading in a Changing Economy: Practical Tools to Strengthen Your Business and Elevate Your Leadership</a></div>\n\n<div class="mn-scroll-item"><span class="mn-scroll-date">Mar 2</span><a class="mn-scroll-name mn-scroll-link" href="https://business.anchoragechamber.org/events/details/make-it-monday-forum-moa-asd-budgets-bonds-14766" target="_blank">&quot\;Make it Monday&quot\; forum - MOA &amp\; ASD Budgets &amp\; Bonds</a></div>\n\n<div class="mn-scroll-item"><span class="mn-scroll-date">Mar 9</span><a class="mn-scroll-name mn-scroll-link" href="https://business.anchoragechamber.org/events/details/make-it-monday-forum-14767" target="_blank">&quot\;Make it Monday&quot\; forum</a></div>\n\n<div class="mn-scroll-item"><span class="mn-scroll-date">Mar 16</span><a class="mn-scroll-name mn-scroll-link" href="https://business.anchoragechamber.org/events/details/no-monday-forum-14780" target="_blank">No Monday forum</a></div>\n\n<div class="mn-scroll-item"><span class="mn-scroll-date">Mar 23</span><a class="mn-scroll-name mn-scroll-link" href="https://business.anchoragechamber.org/events/details/make-it-monday-forum-innovation-in-health-care-how-providence-alaska-is-leveraging-technology-to-deliver-high-quality-care-close-to-home-14768" target="_blank">&quot\;Make it Monday&quot\; forum - Innovation in health care: How Providence Alaska is leveraging technology to deliver high-quality care close to home</a></div>\n\n<div class="mn-scroll-item"><span class="mn-scroll-date">Mar 30</span><a class="mn-scroll-name mn-scroll-link" href="https://business.anchoragechamber.org/events/details/make-it-monday-forum-14769" target="_blank">&quot\;Make it Monday&quot\; forum - Shiloh Community Housing Inc.</a></div>\n\n<div class="mn-scroll-item"><span class="mn-scroll-date">Apr 6</span><a class="mn-scroll-name mn-scroll-link" href="https://business.anchoragechamber.org/events/details/make-it-monday-forum-alaska-work-and-save-strengthening-local-businesses-and-its-employees-for-years-to-come-14785" target="_blank">&quot\;Make it Monday&quot\; forum - Alaska Work and Save- Strengthening Local Businesses and its Employees for Years to Come</a></div>\n</div>\n</div>\n</div>\n<script type="text/javascript">\n/*<![CDATA[*/\nvar _mniwq=_mniwq||[]\;\n_mniwq.push(["1648068081583.type"\,"events_upcoming"]\,["1648068081583.display"\,"text"]\,["1648068081583.category"\,24]\,["1648068081583.marquee"\,false]\,["1648068081583.showEndDate"\,false]\,["1648068081583.showLocation"\,false]\,["1648068081583.showLinks"\,true]\,["1648068081583.popUp"\,true]\,["1648068081583.dateFormat"\,"MMM d"]\,["1648068081583.styleTemplate"\,"#@id .mn-scroll-container{font-family:Oxygen\,sans-serif\;font-size:16px\;line-height:130%\;margin:8px\;position:relative}#@id .mn-scroll-item{-moz-border-radius:5px\;-webkit-border-radius:5px\;background-clip:padding-box\;background-color:#277BE7\;border-radius:5px\;color:#FFFFFF\;margin:0 0 4px\;position:relative}#@id .mn-scroll-item:hover{background-color:#BFD6F2\;color:#FFFFFF}#@id .mn-scroll-name\,#@id .mn-scroll-teaser{display:block\;padding:5px 3px 5px 58px\;position:relative}#@id .mn-scroll-link{color:inherit\;text-decoration:none}#@id .mn-scroll-link:hover{text-decoration:underline}#@id .mn-scroll-date{font-size:75%\;font-weight:700\;left:3px\;position:absolute\;text-align:center\;top:5px\;width:50px}"]\,["1648068081583.create"\,"mni-widgets-1648068081583"])\;\n(function(b\,d\,a\,c){b.getElementById(d)||(c=b.getElementsByTagName(a)[0]\,a=b.createElement(a)\,a.type="text/javascript"\,a.async=!0\,a.src="https://business.anchoragechamber.org/Content/Script/Widgets.js"\,c.parentNode.insertBefore(a\,c))})(document\,"mni-widgets-script"\,"script")\;\n/*]]>*/\n</script></div>\n\n<div>&nbsp\;</div>\n
LOCATION:Egan Center\, LaPerouse Room
UID:e.1417.14763
SEQUENCE:3
DTSTAMP:20260422T213029Z
URL:https://business.anchoragechamber.org/events/details/make-it-monday-forum-trident-seafoods-anchored-in-alaska-14763
END:VEVENT

END:VCALENDAR
