BEGIN:VCALENDAR
VERSION:2.0
PRODID:-//ChamberMaster//Event Calendar 2.0//EN
METHOD:PUBLISH
X-PUBLISHED-TTL:P3D
REFRESH-INTERVAL:P3D
CALSCALE:GREGORIAN
BEGIN:VEVENT
DTSTART:20260509T213000Z
DTEND:20260509T233000Z
X-MICROSOFT-CDO-ALLDAYEVENT:FALSE
SUMMARY:YPG - AER Mobile Food Pantry
DESCRIPTION:Join the YPG at the Anchorage East Rotary's flagship community service project! Many hands make for light work. AER needs at least 12 volunteers\, but would like at least 15-20. Please RSVP!
X-ALT-DESC;FMTTYPE=text/html:<br />\nJoin the YPG at the Anchorage East Rotary&#39\;s flagship community service project! Many hands make for light work. AER needs at least 12 volunteers\, but would like at least 15-20.<em><strong> Please RSVP!</strong></em><br />\n&nbsp\;
LOCATION:Fairvew Community Rec Center 1121 E 10th Ave.
UID:e.1417.14914
SEQUENCE:3
DTSTAMP:20260422T154127Z
URL:https://business.anchoragechamber.org/events/details/ypg-aer-mobile-food-pantry-14914
END:VEVENT

END:VCALENDAR
