BEGIN:VCALENDAR
VERSION:2.0
PRODID:-//ChamberMaster//Event Calendar 2.0//EN
METHOD:PUBLISH
X-PUBLISHED-TTL:P3D
REFRESH-INTERVAL:P3D
CALSCALE:GREGORIAN
BEGIN:VEVENT
DTSTART:20200909T000000Z
DTEND:20200909T010000Z
X-MICROSOFT-CDO-ALLDAYEVENT:FALSE
SUMMARY:Young Professionals Group - Monthly Meeting
DESCRIPTION:ZOOM: https://us02web.zoom.us/meeting/register/tZElfuuqpzkuE9dgR6ICG1pDol9vh5UgTwTU \n\n \n\n\n\n\nThe Young Professionals Group (anchoragechamber.org/ypg) is made up of business professionals and corporate leaders between the ages of 21-39 who are ready to work hard\, play hard and make a positive impact on the greater community of Anchorage.\n\n\n\nYPG averages dozens of professionals per event\, and has implemented a variety of avenues for professionals to develop key business skills and strategies\, grow personally and professionally\, and provide unique networking opportunities with other motivated and social professionals.\n\n\n\nThis group is open to all Anchorage Chamber members and non-members aged 21 to 39.\n\n\n\nFOLLOW OUR EVENTS ON FACEBOOK
X-ALT-DESC;FMTTYPE=text/html:<p><strong>ZOOM:</strong>&nbsp\;<a href="https://us02web.zoom.us/meeting/register/tZElfuuqpzkuE9dgR6ICG1pDol9vh5UgTwTU" target="_blank">https://us02web.zoom.us/meeting/register/tZElfuuqpzkuE9dgR6ICG1pDol9vh5UgTwTU&nbsp\;</a><br />\n&nbsp\;</p>\n\n<hr />\n<p><br />\nThe<strong> Young Professionals Group </strong>(<a href="https://www.anchoragechamber.org/ypg/">anchoragechamber.org/ypg</a>)&nbsp\;is made up of business professionals and corporate leaders between the ages of 21-39 who are ready to work hard\, play hard and make a positive impact on&nbsp\;the greater community of Anchorage.<br />\n<br />\nYPG averages dozens of professionals per event\, and has implemented a variety of avenues for professionals to develop key business skills and strategies\, grow personally and professionally\, and provide unique networking opportunities with other motivated and social professionals.<br />\n<br />\nThis group is open to all Anchorage Chamber members and non-members aged 21 to 39.<br />\n<br />\n<strong style="font-family: arial\; font-size: 14px\;"><a href="https://www.facebook.com/pg/AnchorageChamber/events/?ref=page_internal">FOLLOW OUR EVENTS ON FACEBOOK</a></strong></p>\n
LOCATION:via Zoom until further notice https://us02web.zoom.us/meeting/register/tZElfuuqpzkuE9dgR6ICG1pDol9vh5UgTwTU
UID:e.1417.3999
SEQUENCE:3
DTSTAMP:20260421T222043Z
URL:https://business.anchoragechamber.org/events/details/young-professionals-group-monthly-meeting-09-08-2020-3999
END:VEVENT

END:VCALENDAR
