BEGIN:VCALENDAR
VERSION:2.0
PRODID:-//ChamberMaster//Event Calendar 2.0//EN
METHOD:PUBLISH
X-PUBLISHED-TTL:P3D
REFRESH-INTERVAL:P3D
CALSCALE:GREGORIAN
BEGIN:VEVENT
DTSTART:20260327T190000Z
DTEND:20260327T210000Z
X-MICROSOFT-CDO-ALLDAYEVENT:FALSE
SUMMARY:Volunteer for Aquarian Charter Amazing Shake!
DESCRIPTION:We need volunteers for the 2026 Aquarian Amazing Shake! The top 25 student gauntlet winners will participate in Round 2 on March 27th\, a "speed networking" round.\n\n\n\nHeld at Aloft Anchorage hotel on 36th Ave. from 11:00-1:00\, the "Circle of Doom" is a challenging round in the Amazing Shake competition where students are placed in a circle and rotate through a series of rapid-fire questions or scenarios from different judges.\n\n\n\nThis round tests their ability to think quickly\, stay composed under pressure\, and demonstrate poise\, confidence\, and communication skills in a fast-paced environment.
X-ALT-DESC;FMTTYPE=text/html:<span style="font-size:16px\;"><span style="color: rgb(31\, 31\, 31)\; font-family: docs-Roboto\; white-space-collapse: preserve\; background-color: rgb(255\, 255\, 255)\;">We need volunteers for the 2026 Aquarian Amazing Shake! </span></span><span style="color: rgb(31\, 31\, 31)\; font-family: docs-Roboto\; font-size: 16px\;">The top 25 student gauntlet winners will participate in Round 2 on March 27th\, a &quot\;speed networking&quot\; round.<br />\n<br />\nHeld at Aloft Anchorage hotel on 36th Ave. from 11:00-1:00\, the &quot\;Circle of Doom&quot\; is a challenging round in the</span><span style="color: rgb(31\, 31\, 31)\; font-family: docs-Roboto\; font-size: 16px\; font-style: italic\;">&nbsp\;</span><span style="color: rgb(31\, 31\, 31)\; font-family: docs-Roboto\; font-size: 16px\;">Amazing Shake competition</span><span style="color: rgb(31\, 31\, 31)\; font-family: docs-Roboto\; font-size: 16px\; font-style: italic\;">&nbsp\;</span><span style="color: rgb(31\, 31\, 31)\; font-family: docs-Roboto\; font-size: 16px\;">where&nbsp\;students are placed in a circle and rotate through a series of rapid-fire questions or scenarios from different judges.<br />\n<br />\nThis round tests their ability to think quickly\, stay composed under pressure\, and demonstrate poise\, confidence\, and communication skills in a fast-paced environment.</span>
LOCATION:Aloft Hotel\, midtown Anchorage
UID:e.1417.14859
SEQUENCE:3
DTSTAMP:20260422T171750Z
URL:https://business.anchoragechamber.org/events/details/volunteer-for-aquarian-charter-amazing-shake-14859
END:VEVENT

END:VCALENDAR
