BEGIN:VCALENDAR
VERSION:2.0
PRODID:-//ChamberMaster//Event Calendar 2.0//EN
METHOD:PUBLISH
X-PUBLISHED-TTL:P3D
REFRESH-INTERVAL:P3D
CALSCALE:GREGORIAN
BEGIN:VEVENT
DTSTART:20210120T030000Z
DTEND:20210120T043000Z
X-MICROSOFT-CDO-ALLDAYEVENT:FALSE
SUMMARY:Virtual Urban Harvest: Backyard Astonomy
DESCRIPTION:Hear how people have for millennia navigated via the stars in this astronomy lesson from members of the Southcentral Alaska Astronomical Society. Learn about the different types of telescopes and the best observing tricks and techniques to become a backyard astronomer. Great for all ages.
X-ALT-DESC;FMTTYPE=text/html:Hear how people have for millennia navigated via the stars in this astronomy lesson from members of the Southcentral Alaska Astronomical Society. Learn about the different types of telescopes and the best observing tricks and techniques to become a backyard astronomer. Great for all ages.&nbsp\;
LOCATION:
UID:e.1417.8998
SEQUENCE:3
DTSTAMP:20260423T090556Z
URL:https://business.anchoragechamber.org/events/details/virtual-urban-harvest-backyard-astonomy-8998
END:VEVENT

END:VCALENDAR
