BEGIN:VCALENDAR
VERSION:2.0
PRODID:-//ChamberMaster//Event Calendar 2.0//EN
METHOD:PUBLISH
X-PUBLISHED-TTL:P3D
REFRESH-INTERVAL:P3D
CALSCALE:GREGORIAN
BEGIN:VEVENT
DTSTART:20200824T190000Z
DTEND:20200824T200000Z
X-MICROSOFT-CDO-ALLDAYEVENT:FALSE
SUMMARY:Virtual "Make it Monday" forum - Together\, Great Things are Happening - United Way's Report to the Community
DESCRIPTION:United Way of Anchorage's president and CEO Michele Brown will provide an update on how recent community collaborations and donations are advancing the health\, education\, and financial stability of Anchorage.\n\n\n\nPLUS\, a new episode of What's Happening Anchorage featuring US Steam Vac.
X-ALT-DESC;FMTTYPE=text/html:<div style="line-height: 20.8px\; font-stretch: normal\;" trebuchet="">United Way of Anchorage&rsquo\;s president and CEO Michele Brown will provide an update on how recent community collaborations and donations are advancing the health\, education\, and financial stability of Anchorage.<br />\n<br />\n<em><strong>PLUS\,</strong></em>&nbsp\;a new episode of What&#39\;s Happening Anchorage featuring US Steam Vac.</div>\n
LOCATION:Zoom Webinar The link will be emailed to all registrants before the webinar begins.
UID:e.1417.7853
SEQUENCE:3
DTSTAMP:20260421T163340Z
URL:https://business.anchoragechamber.org/events/details/virtual-make-it-monday-forum-together-great-things-are-happening-united-way-s-report-to-the-community-08-24-2020-7853
END:VEVENT

END:VCALENDAR
