BEGIN:VCALENDAR
VERSION:2.0
PRODID:-//ChamberMaster//Event Calendar 2.0//EN
METHOD:PUBLISH
X-PUBLISHED-TTL:P3D
REFRESH-INTERVAL:P3D
CALSCALE:GREGORIAN
BEGIN:VEVENT
DTSTART:20210704T170000Z
DTEND:20210705T060000Z
X-MICROSOFT-CDO-ALLDAYEVENT:FALSE
SUMMARY:Veterans 4th of July Parade
DESCRIPTION:Despite the initial cancellation due to COVID-19\, the Veterans Parade Council has announced that the annual 4th of July Parade will happen this year. This year's theme: Remembering Our Prisoners of War Past and Present\n\n\n\nFestivities will start off with the traditional pancake breakfast at 9am. \n\n\n\nThe parade will commence at 11am at the Delaney Park Strip. Festivities like food vendors\, carnival rides\, and live music will go on until 10pm. \n\n\n\nTo mitigate the spread of COVID-19 the event will have hand sanitizer stations throughout the park strip\, the event will remain outside\, and a COVID-19 mobile vaccination station will be set up as part of the event. \n\n\n\nIf you would like to participate in the Veterans 4th of July Parade please see the application form here.
X-ALT-DESC;FMTTYPE=text/html:Despite the initial cancellation due to COVID-19\, the Veterans Parade Council has announced that the annual 4th of July Parade will happen this year. This year&#39\;s theme: Remembering Our Prisoners of War Past and Present<br />\n<br />\nFestivities will start off with the traditional pancake breakfast at 9am.&nbsp\;<br />\n<br />\nThe parade will commence at 11am at the Delaney Park Strip. Festivities like food vendors\, carnival rides\, and live music will go on until 10pm.&nbsp\;<br />\n<br />\nTo mitigate the spread of COVID-19 the event will have hand sanitizer stations throughout the park strip\, the event will remain outside\, and a COVID-19 mobile vaccination station will be set up as part of the event.&nbsp\;<br />\n<br />\nIf you would like to participate in the Veterans 4th of July Parade please see the application form&nbsp\;<a href="http://file:///C:/Users/events/Downloads/Vets%204th%20of%20July%20Parade%20%20Application%202021-%202.pdf">here</a>.&nbsp\;
LOCATION:Delaney Park Strip
UID:e.1417.9706
SEQUENCE:3
DTSTAMP:20260422T203124Z
URL:https://business.anchoragechamber.org/events/details/veterans-4th-of-july-parade-9706
END:VEVENT

END:VCALENDAR
