BEGIN:VCALENDAR
VERSION:2.0
PRODID:-//ChamberMaster//Event Calendar 2.0//EN
METHOD:PUBLISH
X-PUBLISHED-TTL:P3D
REFRESH-INTERVAL:P3D
CALSCALE:GREGORIAN
BEGIN:VEVENT
DTSTART:20250620T200000Z
DTEND:20250620T210000Z
X-MICROSOFT-CDO-ALLDAYEVENT:FALSE
SUMMARY:US Navy Band Concert
DESCRIPTION:Enjoy a free concert with the US Navy Band - Northwest Woodwind Quintet\, in conjunction with NAVY WEEK\, June 16-22\, 2025\, Anchorage
X-ALT-DESC;FMTTYPE=text/html:Enjoy a free concert with the US Navy Band - Northwest Woodwind Quintet\, in conjunction with NAVY WEEK\, June 16-22\, 2025\, Anchorage
LOCATION:Fairview Recreation Center\, 1121 East 10th Avenue\, Anchorage
UID:e.1417.14521
SEQUENCE:3
DTSTAMP:20260423T062826Z
URL:https://business.anchoragechamber.org/events/details/us-navy-band-concert-14521
END:VEVENT

END:VCALENDAR
