BEGIN:VCALENDAR
VERSION:2.0
PRODID:-//ChamberMaster//Event Calendar 2.0//EN
METHOD:PUBLISH
X-PUBLISHED-TTL:P3D
REFRESH-INTERVAL:P3D
CALSCALE:GREGORIAN
BEGIN:VEVENT
DTSTART:20260221T213000Z
DTEND:20260222T010000Z
X-MICROSOFT-CDO-ALLDAYEVENT:FALSE
SUMMARY:United Way: Walk for Warmth
DESCRIPTION:The United Way's Walk for Warmth is an event that raises funds for people in the Anchorage area who are struggling to pay their heating bills. Together\, we can keep our community safe and warm. The event begins at 12:30 p.m. at Romig Middle School and follows a one mile loop toward Westchester Lagoon and back. \n\nUtility Assistance\n\nWalk for Warmth makes a difference in Alaskans' lives. Donate to our fund that helps pay past-due utility bills.\n\nThank you\, ENSTAR! For years\, they've supported Walk for Warmth by making generous donations to our fund that pays past-due utility bills. Households can keep their heating service and don't risk other severe impacts. With ENSTAR's help\, we're helping families stay warm\, safe\, and financially secure. If you need help with a past-due utility bill\, call Alaska 211.
X-ALT-DESC;FMTTYPE=text/html:<p><span style="color:#000000\;"><span style="font-size:14px\;"><span style="font-family:verdana\;">The United Way&#39\;s Walk for Warmth is an&nbsp\;event that raises funds for people in the Anchorage area who are struggling to pay their heating bills.&nbsp\;Together\, we can keep our community safe and warm.&nbsp\;The event begins at 12:30 p.m. at Romig Middle School and follows a one mile loop toward Westchester Lagoon and back.&nbsp\;</span></span></span></p>\n\n<p><span style="color:#000000\;"><span style="font-size:14px\;"><span style="font-family:verdana\;">Utility Assistance</span></span></span></p>\n\n<p><span style="font-size:14px\;"><span style="font-family:verdana\;"><span style="color:#000000\;">Walk for Warmth makes a difference in Alaskans&rsquo\; lives.&nbsp\;</span><a href="http://fundraise.givesmart.com/f/2m0r/n?vid=1o6jsn"><span style="color:#008080\;">Donate</span></a><span style="color:#000000\;">&nbsp\;to our fund that helps pay past-due utility bills.</span></span></span></p>\n\n<p><span style="color:#000000\;"><span style="font-size:14px\;"><span style="font-family:verdana\;">Thank you\, ENSTAR! For years\, they&#39\;ve supported Walk for Warmth by making generous donations to our fund that pays past-due utility bills. Households can keep their heating service and don&#39\;t risk other severe impacts.&nbsp\;With ENSTAR&#39\;s help\, we&#39\;re helping families stay warm\, safe\, and financially secure. If you need help with a past-due utility bill\, call Alaska 211.</span></span></span></p>\n
LOCATION:Romig Middle School 2500 Minnesota Drive
UID:e.1417.14834
SEQUENCE:3
DTSTAMP:20260422T171153Z
URL:https://business.anchoragechamber.org/events/details/united-way-walk-for-warmth-14834
END:VEVENT

END:VCALENDAR
