BEGIN:VCALENDAR
VERSION:2.0
PRODID:-//ChamberMaster//Event Calendar 2.0//EN
METHOD:PUBLISH
X-PUBLISHED-TTL:P3D
REFRESH-INTERVAL:P3D
CALSCALE:GREGORIAN
BEGIN:VEVENT
DTSTART:20250905T230000Z
DTEND:20250906T030000Z
X-MICROSOFT-CDO-ALLDAYEVENT:FALSE
SUMMARY:TOTITH Opening Night at Alaska's News Source
DESCRIPTION:20th anniversary of Trick or Treat in the Heat's FIRST EVER OPENING NIGHT event here at Alaska's News Source! We are looking to make this a fun party and kick off for the community. ALL proceeds raised from the selling of the wrist bands go directly back to the Trick or Treat in the Heat Foundation and the local organizations that they support. \n\n \n\nHere's a sneak peep at what we're planning so far!\n\n\n	\n	Food trucks\n	\n	\n	Anchorage Wolverines Appearance\n	\n	\n	Hot Apple Cider Booth\n	\n	\n	Photo Booth Van (via Photo Emporium) \n	\n	\n	Giant Halloween inflatables provided by Spirit Halloween\n	\n	\n	Anchorage Fire/Police Department\n	\n	\n	LIVE DJ for SPPPPOOKKKY tunes! \n	\n	\n	ALSO ------- 30+ registered vehicles that will be participating in the TRUNK or TREAT portion of the event! Fun decorated vehicles with volunteers to help pass out candy & other kid-friendly items!\n	\n\n\nThis is going to be an amazing first-ever event\, and we are beyond thrilled!\n\n \n\nEvent Details:\n\nEvent Date: Friday\, September 5\n\nEvent Time: 3 7 PM\n\nEvent Info & Tickets: Opening Night   Trick or Treat in the Heat\n\n \n\n100% of proceeds raised benefit Trick or Treat in the Heat who support- Hospice of Anchorage\, Make-A-Wish Alaska\, and the Ronald McDonald House. Let's make this a memorable event for our station and community while supporting these incredible causes.
X-ALT-DESC;FMTTYPE=text/html:<div><br />\n20th anniversary of Trick or Treat in the Heat&#39\;s FIRST EVER OPENING NIGHT event here at Alaska&#39\;s News Source! We are looking to make this a fun party and kick off for the community. ALL proceeds raised from the selling of the wrist bands go directly back to the Trick or Treat in the Heat Foundation and the local organizations that they support.&nbsp\;</div>\n\n<div>&nbsp\;</div>\n\n<div>Here&#39\;s a sneak peep at what we&#39\;re planning so far!</div>\n\n<ul data-editing-info="{">\n	<li>\n	<div role="presentation">Food trucks</div>\n	</li>\n	<li>\n	<div role="presentation">Anchorage Wolverines Appearance</div>\n	</li>\n	<li>\n	<div role="presentation">Hot Apple Cider Booth</div>\n	</li>\n	<li>\n	<div role="presentation">Photo Booth Van (via Photo Emporium)&nbsp\;</div>\n	</li>\n	<li>\n	<div role="presentation">Giant Halloween inflatables provided by Spirit Halloween</div>\n	</li>\n	<li>\n	<div role="presentation">Anchorage Fire/Police Department</div>\n	</li>\n	<li>\n	<div role="presentation">LIVE DJ for SPPPPOOKKKY tunes!&nbsp\;</div>\n	</li>\n	<li>\n	<div role="presentation">ALSO ------- 30+ registered vehicles that will be participating in the TRUNK or TREAT portion of the event! Fun decorated vehicles with volunteers to help pass out candy &amp\; other kid-friendly items!</div>\n	</li>\n</ul>\n\n<div>This is going to be an amazing first-ever event\, and we are beyond thrilled!</div>\n\n<div>&nbsp\;</div>\n\n<div>Event Details:</div>\n\n<div>Event Date: Friday\, September 5</div>\n\n<div>Event Time:&nbsp\;3&ndash\;7 PM</div>\n\n<div>Event Info &amp\; Tickets:&nbsp\;<a data-auth="NotApplicable" data-linkindex="0" href="https://totith.org/opening-night/" id="OWA649044d8-a7ea-97f9-7ccc-aa688a9002a8" rel="noopener noreferrer" target="_blank" title="https://totith.org/opening-night/">Opening Night &ndash\;&nbsp\;Trick&nbsp\;or Treat in the Heat</a></div>\n\n<div>&nbsp\;</div>\n\n<div>100% of proceeds raised benefit&nbsp\;Trick&nbsp\;or Treat in the Heat who support- Hospice of Anchorage\, Make-A-Wish Alaska\, and the Ronald McDonald House. Let&rsquo\;s make this a memorable event for our station and community while supporting these incredible causes.</div>\n
LOCATION:Alaska's News Source Parking Lot (501 E. 40th Ave.)
UID:e.1417.14639
SEQUENCE:3
DTSTAMP:20260423T020714Z
URL:https://business.anchoragechamber.org/events/details/totith-opening-night-at-alaska-s-news-source-14639
END:VEVENT

END:VCALENDAR
