BEGIN:VCALENDAR
VERSION:2.0
PRODID:-//ChamberMaster//Event Calendar 2.0//EN
METHOD:PUBLISH
X-PUBLISHED-TTL:P3D
REFRESH-INTERVAL:P3D
CALSCALE:GREGORIAN
BEGIN:VEVENT
DTSTART:20250328T023000Z
DTEND:20250328T040000Z
X-MICROSOFT-CDO-ALLDAYEVENT:FALSE
SUMMARY:Thursday Tastings
DESCRIPTION:Explore unique flavor profiles with a variety of distinct pairings of appetizer bites and libations. March 27: Tequila & Tamales April 10: Sake & Sushi April 24: Champagne & Oysters
X-ALT-DESC;FMTTYPE=text/html:Explore unique flavor profiles with a variety of distinct pairings of appetizer bites and libations. March 27: Tequila &amp\; Tamales April 10: Sake &amp\; Sushi April 24: Champagne &amp\; Oysters
LOCATION:Foraker Restaurant in Talkeetna Alaskan Lodge
UID:e.1417.14145
SEQUENCE:3
DTSTAMP:20260423T220040Z
URL:https://business.anchoragechamber.org/events/details/thursday-tastings-14145
END:VEVENT

END:VCALENDAR
