BEGIN:VCALENDAR
VERSION:2.0
PRODID:-//ChamberMaster//Event Calendar 2.0//EN
METHOD:PUBLISH
X-PUBLISHED-TTL:P3D
REFRESH-INTERVAL:P3D
CALSCALE:GREGORIAN
BEGIN:VEVENT
DTSTART:20251016T200000Z
DTEND:20251016T200000Z
X-MICROSOFT-CDO-ALLDAYEVENT:FALSE
SUMMARY:Third Thursday at the Ch'k'iqadi Gallery
DESCRIPTION:Join us at the Ch'k'iqadi Gallery\, located within the Alaska Native Heritage Center\, for Third Thursdays   the monthly evening celebration of contemporary Alaska Native artists. Each month\, we feature new artwork by artists from a different Alaska Native cultural group. On every Third Thursday\, enjoy a special after-hours event honoring the featured artists\, complete with light refreshments and a 10% storewide discount. This event is free and open to the public.
X-ALT-DESC;FMTTYPE=text/html:Join us at the Ch&#39\;k&#39\;iqadi Gallery\, located within the Alaska Native Heritage Center\, for Third Thursdays &mdash\; the monthly evening celebration of contemporary Alaska Native artists. Each month\, we feature new artwork by artists from a different Alaska Native cultural group. On every Third Thursday\, enjoy a special after-hours event honoring the featured artists\, complete with light refreshments and a 10% storewide discount. This event is free and open to the public.
LOCATION:Ch'k'iqadi Gallery at the Alaska Native Heritage Center
UID:e.1417.14604
SEQUENCE:3
DTSTAMP:20260423T002726Z
URL:https://business.anchoragechamber.org/events/details/third-thursday-at-the-ch-k-iqadi-gallery-10-16-2025-14604
END:VEVENT

END:VCALENDAR
