BEGIN:VCALENDAR
VERSION:2.0
PRODID:-//ChamberMaster//Event Calendar 2.0//EN
METHOD:PUBLISH
X-PUBLISHED-TTL:P3D
REFRESH-INTERVAL:P3D
CALSCALE:GREGORIAN
BEGIN:VEVENT
DTSTART:20260522T013000Z
DTEND:20260522T033000Z
X-MICROSOFT-CDO-ALLDAYEVENT:FALSE
SUMMARY:Third Thursday at the Ch'k'iqadi Gallery
DESCRIPTION:??? You're Invited: Third Thursday at the Ch'k'iqadi Gallery Join us at the Ch'k'iqadi Gallery\, located within the Alaska Native Heritage Center\, for Third Thursdays   the monthly evening celebration of contemporary Alaska Native artists. Each month\, we feature new artwork by artists from a different Alaska Native cultural group. On every Third Thursday\, enjoy a special after-hours event honoring the featured artists\, complete with light refreshments and a 10% storewide discount. This event is free and open to the public. ??New for 2026: Third Thursdays will now include special visits to our collections\, highlighting recently donated cultural belongings. These visits are made possible with support provided by the Luce Foundation. ??? The third Thursday of every month ?? 5:30 7:30 PM ?? Alaska Native Heritage Center   Ch'k'iqadi Gallery 8800 Heritage Center Drive\, Anchorage\, AK 99504 Our gallery name "Ch'k'iqadi\," is a Dena'ina Athabascan term for "Things We Buy." From gifts for the kids to high end collectible Alaska Native arts\, it is the premier shopping spot to bring a piece of Alaska home with you. The Ch'k'iqadi Gallery sources art directly from Alaska Native artists from every region in Alaska. Every purchase made goes directly to supporting our Alaska Native artist community and cultural and educational programming at the Alaska Native Heritage Center. Stop by today to experience the rich tapestry of our arts and cultures and support Alaska Native artists from across Alaska. Contact Ch'k'iqadi Gallery staff by phone at (907) 330-8009.
X-ALT-DESC;FMTTYPE=text/html:??? You&#39\;re Invited: Third Thursday at the Ch&#39\;k&#39\;iqadi Gallery Join us at the Ch&#39\;k&#39\;iqadi Gallery\, located within the Alaska Native Heritage Center\, for Third Thursdays &mdash\; the monthly evening celebration of contemporary Alaska Native artists. Each month\, we feature new artwork by artists from a different Alaska Native cultural group. On every Third Thursday\, enjoy a special after-hours event honoring the featured artists\, complete with light refreshments and a 10% storewide discount. This event is free and open to the public. ??New for 2026: Third Thursdays will now include special visits to our collections\, highlighting recently donated cultural belongings. These visits are made possible with support provided by the Luce Foundation. ??? The third Thursday of every month ?? 5:30&ndash\;7:30 PM ?? Alaska Native Heritage Center &ndash\; Ch&#39\;k&#39\;iqadi Gallery 8800 Heritage Center Drive\, Anchorage\, AK 99504 Our gallery name &quot\;Ch&#39\;k&#39\;iqadi\,&quot\; is a Dena&#39\;ina Athabascan term for &quot\;Things We Buy.&quot\; From gifts for the kids to high end collectible Alaska Native arts\, it is the premier shopping spot to bring a piece of Alaska home with you. The Ch&rsquo\;k&rsquo\;iqadi Gallery sources art directly from Alaska Native artists from every region in Alaska. Every purchase made goes directly to supporting our Alaska Native artist community and cultural and educational programming at the Alaska Native Heritage Center. Stop by today to experience the rich tapestry of our arts and cultures and support Alaska Native artists from across Alaska. Contact Ch&#39\;k&#39\;iqadi Gallery staff by phone at (907) 330-8009.
LOCATION:8800 Heritage Center Drive
UID:e.1417.14921
SEQUENCE:3
DTSTAMP:20260424T115701Z
URL:https://business.anchoragechamber.org/events/details/third-thursday-at-the-ch-k-iqadi-gallery-05-21-2026-14921
END:VEVENT

END:VCALENDAR
