BEGIN:VCALENDAR
VERSION:2.0
PRODID:-//ChamberMaster//Event Calendar 2.0//EN
METHOD:PUBLISH
X-PUBLISHED-TTL:P3D
REFRESH-INTERVAL:P3D
CALSCALE:GREGORIAN
BEGIN:VEVENT
DTSTART:20250618T230000Z
DTEND:20250619T060000Z
X-MICROSOFT-CDO-ALLDAYEVENT:FALSE
SUMMARY:The Backyard Country BBQ
DESCRIPTION:We're back! We're still rocking out and grilling till our ears are full of music and our bellies are swollen from good BBQ. Featuring:\n\n	Tyler Hubbard\n	Tim Montana\n	John Morgan\n	Kendell Marvel\n\nDOORS OPEN @ 3pm\n\nMUSIC STARTS @4pm\n\n\n	This is an all-ages show but if you are under 21 years of age\, you'll need to be with a guardian that is 21 or older.\n	Kids 5 and under get in free. 1 kid per paid adult.\n	You can bring your own camp or folding chairs but please do not block other people's view.\n	This concert is rain or shine.\n	You will need to show an official legal ID if you want purchase/drink alcohol at the concert.\n	No outside food or beverages allowed in.\n	No re-entry once you leave unless it is an emergency\, or you are VIP.\n	If you are under 21 and caught drinking or over 21 and caught purchasing alcohol to minors\, you will be arrested and handed over to police.\n	If you take your wrist band off during the event and are caught\, you will be asked to leave and will need to pay for a ticket to come back in. If yours breaks for some reason\, please head to the front gate & get a new one to put on.\n	No pets or animals are aloud unless they are a certified service/support animal.\n	No big bags\, backpacks\, umbrellas or tents will be allowed in\, and smaller bags and you will be searched. (So don't try and smuggle things in!)\n	No weapons/guns allowed.\n	No Refunds unless the show is canceled.\n\nSPONSORS / PRESENTED BY:\n\n\n	Coors Light\n	Crown Royal\n	Value Liquor\n\nThis is an Erickson Unlimited Production
X-ALT-DESC;FMTTYPE=text/html:<strong>We&rsquo\;re back!</strong> We&rsquo\;re still rocking out and grilling till our ears are full of music and our bellies are swollen from good BBQ. Featuring:\n<ul>\n	<li>Tyler Hubbard</li>\n	<li>Tim Montana</li>\n	<li>John Morgan</li>\n	<li>Kendell Marvel</li>\n</ul>\n<strong>DOORS OPEN @ 3pm<br />\nMUSIC STARTS @4pm</strong>\n\n<ul>\n	<li>This is an all-ages show but if you are under 21 years of age\, you&rsquo\;ll need to be with a guardian that is 21 or older.</li>\n	<li>Kids 5 and under get in free. 1 kid per paid adult.</li>\n	<li>You can bring your own camp or folding chairs but please do not block other people&rsquo\;s view.</li>\n	<li>This concert is rain or shine.</li>\n	<li>You will need to show an official legal ID if you want purchase/drink alcohol at the concert.</li>\n	<li>No outside food or beverages allowed in.</li>\n	<li>No re-entry once you leave unless it is an emergency\, or you are VIP.</li>\n	<li>If you are under 21 and caught drinking or over 21 and caught purchasing alcohol to minors\, you will be arrested and handed over to police.</li>\n	<li>If you take your wrist band off during the event and are caught\, you will be asked to leave and will need to pay for a ticket to come back in. If yours breaks for some reason\, please head to the front gate &amp\; get a new one to put on.</li>\n	<li>No pets or animals are aloud unless they are a certified service/support animal.</li>\n	<li>No big bags\, backpacks\, umbrellas or tents will be allowed in\, and smaller bags and you will be searched. (So don&rsquo\;t try and smuggle things in!)</li>\n	<li>No weapons/guns allowed.</li>\n	<li>No Refunds unless the show is canceled.</li>\n</ul>\n<strong>SPONSORS / PRESENTED BY:</strong>\n\n<ul>\n	<li>Coors Light</li>\n	<li>Crown Royal</li>\n	<li>Value Liquor</li>\n</ul>\n<em><strong>This is an <a href="https://business.anchoragechamber.org/list/Member/erickson-unlimited-21059">Erickson Unlimited</a> Production</strong></em>
LOCATION:The Chinook Lot Downtown Anchorage 498 W 3rd Ave\, Anchorage\, AK\, 99501
UID:e.1417.14512
SEQUENCE:3
DTSTAMP:20260423T062531Z
URL:https://business.anchoragechamber.org/events/details/the-backyard-country-bbq-14512
END:VEVENT

END:VCALENDAR
