BEGIN:VCALENDAR
VERSION:2.0
PRODID:-//ChamberMaster//Event Calendar 2.0//EN
METHOD:PUBLISH
X-PUBLISHED-TTL:P3D
REFRESH-INTERVAL:P3D
CALSCALE:GREGORIAN
BEGIN:VEVENT
DTSTART:20210123T220000Z
DTEND:20210123T233000Z
X-MICROSOFT-CDO-ALLDAYEVENT:FALSE
SUMMARY:Teens for Climate Action Summit
DESCRIPTION:Calling all teens who want to make our home planet a better place: On Saturday\, Jan. 23\, hear talks from local experts working on the Anchorage Climate Action Plan. On Sunday\, Jan. 24\, teens will work together to develop climate action projects to be completed during the Spring 2021 semester. Spring 2021 climate action projects will likely be virtual. Free\, thanks to generous funding from the Smithsonian Institution.
X-ALT-DESC;FMTTYPE=text/html:Calling all teens who want to make our home planet a better place: On Saturday\, Jan. 23\, hear talks from local experts working on the Anchorage Climate Action Plan. On Sunday\, Jan. 24\, teens will work together to develop climate action projects to be completed during the Spring 2021 semester. Spring 2021 climate action projects will likely be virtual. Free\, thanks to generous funding from the Smithsonian Institution.
LOCATION:Zoom link provided upon registration.
UID:e.1417.8999
SEQUENCE:3
DTSTAMP:20260424T023350Z
URL:https://business.anchoragechamber.org/events/details/teens-for-climate-action-summit-8999
END:VEVENT

END:VCALENDAR
