BEGIN:VCALENDAR
VERSION:2.0
PRODID:-//ChamberMaster//Event Calendar 2.0//EN
METHOD:PUBLISH
X-PUBLISHED-TTL:P3D
REFRESH-INTERVAL:P3D
CALSCALE:GREGORIAN
BEGIN:VEVENT
DTSTART;VALUE=DATE:20251129
DTEND;VALUE=DATE:20251130
TRANSP:TRANSPARENT
X-MICROSOFT-CDO-ALLDAYEVENT:TRUE
SUMMARY:Small Business Saturday
DESCRIPTION:Are you a downtown-based small business owner? There's still time to get involved! The deadline to be included on the Small Business Saturday map is Thursday\, November 20. MORE INFO
X-ALT-DESC;FMTTYPE=text/html:<br />\n<strong>Are you a downtown-based small business owner?&nbsp\;</strong>There&rsquo\;s still time to get involved! The deadline to be included on the Small Business Saturday map is Thursday\, November 20. <a href="https://anchoragedowntown.wufoo.com/forms/m1yfadqx15dfgrj/" target="_blank">MORE INFO</a>
LOCATION:Downtown Anchorage
UID:e.1417.14720
SEQUENCE:3
DTSTAMP:20260422T225015Z
URL:https://business.anchoragechamber.org/events/details/small-business-saturday-14720
END:VEVENT

END:VCALENDAR
