BEGIN:VCALENDAR
VERSION:2.0
PRODID:-//ChamberMaster//Event Calendar 2.0//EN
METHOD:PUBLISH
X-PUBLISHED-TTL:P3D
REFRESH-INTERVAL:P3D
CALSCALE:GREGORIAN
BEGIN:VEVENT
DTSTART:20250305T200000Z
DTEND:20250305T210000Z
X-MICROSOFT-CDO-ALLDAYEVENT:FALSE
SUMMARY:Small Business Power Hour Workshop
DESCRIPTION:People typically think of manufacturing as "industrial manufacturing" however\, manufacturing can mean producing soaps\, candles\, and food and beverage productions. \n\n\n\nSBA and Manufacturing Extension Program (MEP) are teaming up to bring you a virtual workshop this Wednesday\, March 5 @ 11 am. Our goal is to raise the awareness among our start-ups and small businesses on how SBA and MEP can assist in them in launching or growing their "manufacturing business."\n\n\n\nDOWNLOAD FLYER
X-ALT-DESC;FMTTYPE=text/html:People typically think of manufacturing as &ldquo\;industrial manufacturing&rdquo\; however\, manufacturing can mean producing soaps\, candles\, and food and beverage productions.&nbsp\;<br />\n<br />\nSBA and Manufacturing Extension Program (MEP) are teaming up to bring you a virtual workshop this Wednesday\, March 5 @ 11 am. Our goal is to raise the awareness among our start-ups and small businesses on how SBA and MEP can assist in them in launching or growing their &ldquo\;manufacturing business.&rdquo\;<br />\n<br />\n<a href="https://drive.google.com/file/d/1npd1ZwDTq0N6Ojoqpgj-ObUTLjgJW_6V/view?usp=sharing" target="_blank">DOWNLOAD FLYER</a>
LOCATION:Webinar
UID:e.1417.14123
SEQUENCE:3
DTSTAMP:20260424T062309Z
URL:https://business.anchoragechamber.org/events/details/small-business-power-hour-workshop-14123
END:VEVENT

END:VCALENDAR
