BEGIN:VCALENDAR
VERSION:2.0
PRODID:-//ChamberMaster//Event Calendar 2.0//EN
METHOD:PUBLISH
X-PUBLISHED-TTL:P3D
REFRESH-INTERVAL:P3D
CALSCALE:GREGORIAN
BEGIN:VEVENT
DTSTART:20250606T030000Z
DTEND:20250606T043000Z
X-MICROSOFT-CDO-ALLDAYEVENT:FALSE
SUMMARY:Rosie Rush at Fish Creek Park
DESCRIPTION:Anchorage Concert Association is proud to present Rosie Rush at Fish Creek Park for the Summer Concert Series 2025 - bringing live music right to your neighborhood. Fuel up with tasty eats available from Nonkie Be's Cajun Faves\, Smokehouse BBQ\, and Babycakes Cupcakes while you enjoy the show! Ride your bike to the concert and stop by the Anchorage Concert Association table to grab a free Kaladi Brothers Coffee drink card. Don't forget to enter our drawing! Lucky winners will receive a pair of tickets to Rock the Hill or Bria Skonberg at the end of each Summer Concert.
X-ALT-DESC;FMTTYPE=text/html:Anchorage Concert Association is proud to present Rosie Rush at Fish Creek Park for the Summer Concert Series 2025 - bringing live music right to your neighborhood. Fuel up with tasty eats available from Nonkie Be&#39\;s Cajun Faves\, Smokehouse BBQ\, and Babycakes Cupcakes while you enjoy the show! Ride your bike to the concert and stop by the Anchorage Concert Association table to grab a free Kaladi Brothers Coffee drink card. Don&rsquo\;t forget to enter our drawing! Lucky winners will receive a pair of tickets to Rock the Hill or Bria Skonberg at the end of each Summer Concert.
LOCATION:Fish Creek Park
UID:e.1417.14515
SEQUENCE:3
DTSTAMP:20260423T062913Z
URL:https://business.anchoragechamber.org/events/details/rosie-rush-at-fish-creek-park-14515
END:VEVENT

END:VCALENDAR
