BEGIN:VCALENDAR
VERSION:2.0
PRODID:-//ChamberMaster//Event Calendar 2.0//EN
METHOD:PUBLISH
X-PUBLISHED-TTL:P3D
REFRESH-INTERVAL:P3D
CALSCALE:GREGORIAN
BEGIN:VEVENT
DTSTART:20211120T000000Z
DTEND:20211120T010000Z
X-MICROSOFT-CDO-ALLDAYEVENT:FALSE
SUMMARY:Ribbon Cutting: RESPEC
DESCRIPTION:In May\, PDC Engineers\, an infrastructure design firm focused on facilities\, utilities\, transportation\, and land development services was acquired by RESPEC Inc. (Rapid City\, SD). FULL PRESS RELEASE\n\n\n\nJoin us in celebrating RESPEC with a ribbon cutting at 3:00pm followed by champagne and dessert. Make sure to dress warm as part of the presentation will be outdoors.\n\n\n\nEngineering smarter ways and smarter worlds for major industry sectors\, RESPEC is a global leader in diverse technologies and draws from a wide array of expertise\, products\, and services to deliver world-class solutions for business\, mining\, energy\, water\, natural resources\, urban development\, infrastructure\, and enterprise services. We answer thousands of technical questions from diverse clients with one simple answer: Yes\, we can do that.\n\n\n\nThe Anchorage Chamber is committed to creating and providing an environment where our members feel comfortable\, but also have the freedom to do business. We will continue to follow the latest guidance from the CDC and the Anchorage Health Department. We encourage everyone\, regardless of vaccination status\, to wear facial coverings when not actively eating or drinking. Masks and hand sanitizer will be provided at all in-person events\, and we ask that you keep your distance from others. Please stay home if you feel sick or have been exposed. Lastly\, we encourage everyone to consider getting vaccinated. Visit anchoragecovidvaccine.org.
X-ALT-DESC;FMTTYPE=text/html:<br />\nIn May\, PDC Engineers\, an infrastructure design firm focused on facilities\, utilities\, transportation\, and land development services was acquired by RESPEC Inc. (Rapid City\, SD). <a href="https://www.pdceng.com/pdc-engineers-acquired-by-respec-inc/" target="_blank">FULL PRESS RELEASE</a><br />\n<br />\nJoin us in celebrating RESPEC with a ribbon cutting at 3:00pm followed by champagne and dessert. Make sure to dress warm as part of the presentation will be outdoors.<br />\n<br />\nEngineering smarter ways and smarter worlds for major industry sectors\, RESPEC is a global leader in diverse technologies and draws from a wide array of expertise\, products\, and services to deliver world-class solutions for business\, mining\, energy\, water\, natural resources\, urban development\, infrastructure\, and enterprise services. We answer thousands of technical questions from diverse clients with one simple answer: Yes\, we can do that.<br />\n<br />\nThe Anchorage Chamber is committed to creating and providing an environment where our members feel comfortable\, but also have the freedom to do business. We will continue to follow the latest guidance from the CDC and the Anchorage Health Department. We encourage everyone\, regardless of vaccination status\, to wear facial coverings when not actively eating or drinking. Masks and hand sanitizer will be provided at all in-person events\, and we ask that you keep your distance from others. Please stay home if you feel sick or have been exposed. Lastly\, we encourage everyone to consider getting vaccinated. Visit&nbsp\;<a href="http://anchoragecovidvaccine.org/" target="_blank">anchoragecovidvaccine.org</a>.
LOCATION:2700 Gambell St.\, Ste. 500 Event will be held in the main entryway Dress warm as part of the event will be outdoors
UID:e.1417.10550
SEQUENCE:3
DTSTAMP:20260425T163118Z
URL:https://business.anchoragechamber.org/events/details/ribbon-cutting-respec-10550
END:VEVENT

END:VCALENDAR
