BEGIN:VCALENDAR
VERSION:2.0
PRODID:-//ChamberMaster//Event Calendar 2.0//EN
METHOD:PUBLISH
X-PUBLISHED-TTL:P3D
REFRESH-INTERVAL:P3D
CALSCALE:GREGORIAN
BEGIN:VEVENT
DTSTART:20200910T023000Z
DTEND:20200910T033000Z
X-MICROSOFT-CDO-ALLDAYEVENT:FALSE
SUMMARY:Red Cross of Alaska Virtual Volunteer Fair
DESCRIPTION:Turn compassion into action - join the American Red Cross of Alaska as a volunteer!\n\n\n\nRed Cross volunteers perform critical services such as helping victims of fires\, floods\, storms and other disasters\; serving as a Red Cross representative at community health fairs\; providing emergency communication services to military members\, and educating young adults about International Humanitarian Law. Others help the organization with administrative tasks\, event planning\, and much\, much more.\n\n\n\nDuring the virtual fair hosted on Microsoft Teams Live\, we will discuss volunteer opportunities and ways to get involved.
X-ALT-DESC;FMTTYPE=text/html:Turn compassion into action - join the American Red Cross of Alaska as a volunteer!<br />\n<br />\nRed Cross volunteers perform critical services such as helping victims of fires\, floods\, storms and other disasters\; serving as a Red Cross representative at community health fairs\; providing emergency communication services to military members\, and educating young adults about International Humanitarian Law. Others help the organization with administrative tasks\, event planning\, and much\, much more.<br />\n<br />\nDuring the virtual fair hosted on Microsoft Teams Live\, we will discuss volunteer opportunities and ways to get involved.
LOCATION:Online event: https://bit.ly/2Ckrmx
UID:e.1417.7912
SEQUENCE:3
DTSTAMP:20260424T154311Z
URL:https://business.anchoragechamber.org/events/details/red-cross-of-alaska-virtual-volunteer-fair-09-09-2020-7912
END:VEVENT

END:VCALENDAR
