BEGIN:VCALENDAR
VERSION:2.0
PRODID:-//ChamberMaster//Event Calendar 2.0//EN
METHOD:PUBLISH
X-PUBLISHED-TTL:P3D
REFRESH-INTERVAL:P3D
CALSCALE:GREGORIAN
BEGIN:VEVENT
DTSTART:20260516T200000Z
DTEND:20260517T000000Z
X-MICROSOFT-CDO-ALLDAYEVENT:FALSE
SUMMARY:Reading Rendezvous
DESCRIPTION:Discover reading and learning for kids by exploring activities all summer long. This annual community tradition celebrates reading and kicks off Anchorage Public Library's Summer Discovery reading program. There will be community booths full of activities\, live entertainment on the stage\, and so much more! This is a FREE family event.
X-ALT-DESC;FMTTYPE=text/html:Discover reading and learning for kids by exploring activities all summer long. This annual community tradition celebrates reading and kicks off Anchorage Public Library&#39\;s Summer Discovery reading program. There will be community booths full of activities\, live entertainment on the stage\, and so much more! This is a FREE family event.
LOCATION:Loussac Library 3600 Denali St. Anchorage\, AK 99503
UID:e.1417.14916
SEQUENCE:3
DTSTAMP:20260422T200812Z
URL:https://business.anchoragechamber.org/events/details/reading-rendezvous-14916
END:VEVENT

END:VCALENDAR
