BEGIN:VCALENDAR
VERSION:2.0
PRODID:-//ChamberMaster//Event Calendar 2.0//EN
METHOD:PUBLISH
X-PUBLISHED-TTL:P3D
REFRESH-INTERVAL:P3D
CALSCALE:GREGORIAN
BEGIN:VEVENT
DTSTART:20200318T000000Z
DTEND:20200318T013000Z
X-MICROSOFT-CDO-ALLDAYEVENT:FALSE
SUMMARY:POSTPONED: Ribbon Cutting: Go Hike Alaska
DESCRIPTION:Join us in celebrating the re-opening of Go Hike Alaska!\n\n\n\nPlease RSVP by March 15th.
X-ALT-DESC;FMTTYPE=text/html:<div data-testid="event-permalink-details">Join us in celebrating the re-opening of <strong>Go Hike Alaska</strong>!<br />\n<br />\nPlease <a href="mailto:MATT@GOHIKEALASKA.COM?subject=RSVP%20TO%20RIBBON%20CUTTING%2003%2F17%2F2020">RSVP</a> by March 15th.</div>\n
LOCATION:Visit Anchorage Visit Information Center 546 W 4th Ave.
UID:e.1417.7857
SEQUENCE:3
DTSTAMP:20260421T225601Z
URL:https://business.anchoragechamber.org/events/details/postponed-ribbon-cutting-go-hike-alaska-03-17-2020-7857
END:VEVENT

END:VCALENDAR
