BEGIN:VCALENDAR
VERSION:2.0
PRODID:-//ChamberMaster//Event Calendar 2.0//EN
METHOD:PUBLISH
X-PUBLISHED-TTL:P3D
REFRESH-INTERVAL:P3D
CALSCALE:GREGORIAN
BEGIN:VEVENT
DTSTART:20200323T193000Z
DTEND:20200323T213000Z
X-MICROSOFT-CDO-ALLDAYEVENT:FALSE
SUMMARY:POSTPONED! Anchorage ATHENA Society Luncheon
DESCRIPTION:This event has been postponed until September 28\, 2020.\n\n\n\nFor more information\, visit the updated event page here.
X-ALT-DESC;FMTTYPE=text/html:<span style="font-size:16px\;"><b>This event has been postponed until September 28\, 2020.<br />\n<br />\nFor more information\, visit the updated event page <a href="https://business.anchoragechamber.org/events/details/2020-anchorage-athena-society-luncheon-7863?calendarMonth=2020-09-01"><span style="color:#e8a310\;">here</span></a>.</b></span><br />\n<br />\n&nbsp\;
LOCATION:Dena'ina Center
UID:e.1417.7864
SEQUENCE:3
DTSTAMP:20260421T162310Z
URL:https://business.anchoragechamber.org/events/details/postponed-anchorage-athena-society-luncheon-03-23-2020-7864
END:VEVENT

END:VCALENDAR
