BEGIN:VCALENDAR
VERSION:2.0
PRODID:-//ChamberMaster//Event Calendar 2.0//EN
METHOD:PUBLISH
X-PUBLISHED-TTL:P3D
REFRESH-INTERVAL:P3D
CALSCALE:GREGORIAN
BEGIN:VEVENT
DTSTART:20241012T013000Z
DTEND:20241012T060000Z
X-MICROSOFT-CDO-ALLDAYEVENT:FALSE
SUMMARY:Paving our Future Gala
DESCRIPTION:The Paving Our Future Gala\, hosted by Mountain City Christian Academy on October 11\, 2024\, aims to raise funds for tuition scholarships\, classroom furniture\, musical instruments\, and computers. With Melvin Adams\, former Globetrotters captain\, as emcee\, the evening will feature a delicious dinner\, silent and live auctions\, live entertainment\, and inspiring stories from our students. Join us for an unforgettable night dedicated to supporting affordable\, high-quality education for our diverse East Anchorage community.
X-ALT-DESC;FMTTYPE=text/html:<br />\nThe Paving Our Future Gala\, hosted by Mountain City Christian Academy on October 11\, 2024\, aims to raise funds for tuition scholarships\, classroom furniture\, musical instruments\, and computers. With Melvin Adams\, former Globetrotters captain\, as emcee\, the evening will feature a delicious dinner\, silent and live auctions\, live entertainment\, and inspiring stories from our students. Join us for an unforgettable night dedicated to supporting affordable\, high-quality education for our diverse East Anchorage community.
LOCATION:Mountain City Christian Academy 6575 E. Northern Lights Blvd.
UID:e.1417.13478
SEQUENCE:3
DTSTAMP:20260425T203702Z
URL:https://business.anchoragechamber.org/events/details/paving-our-future-gala-13478
END:VEVENT

END:VCALENDAR
