BEGIN:VCALENDAR
VERSION:2.0
PRODID:-//ChamberMaster//Event Calendar 2.0//EN
METHOD:PUBLISH
X-PUBLISHED-TTL:P3D
REFRESH-INTERVAL:P3D
CALSCALE:GREGORIAN
BEGIN:VEVENT
DTSTART:20250907T230000Z
DTEND:20250908T010000Z
X-MICROSOFT-CDO-ALLDAYEVENT:FALSE
SUMMARY:Parlando - The B-Side
DESCRIPTION:The B-Side: Lesser-known favorites from our favorite composers Verdi\, Puccini\, Menotti\, Humperdinck  they all wrote hummable earworms that have entered our collective consciousness. But they also wrote many gems that never truly saw the limelight. Explore the stunning variety of songs\, arias\, scenes\, and ditties\, performed by participants in the Alaska Artist Development Program and other guest artists. Susan Wingrove-Reed is at the keyboard and Italianissimo snacks will be served\, along with wine and beer.
X-ALT-DESC;FMTTYPE=text/html:<br />\nThe B-Side: Lesser-known favorites from our favorite composers Verdi\, Puccini\, Menotti\, Humperdinck&hellip\; they all wrote hummable earworms that have entered our collective consciousness. But they also wrote many gems that never truly saw the limelight. Explore the stunning variety of songs\, arias\, scenes\, and ditties\, performed by participants in the Alaska Artist Development Program and other guest artists. Susan Wingrove-Reed is at the keyboard and Italianissimo snacks will be served\, along with wine and beer.
LOCATION:Akela Space\, 320 W. 6th Ave\, #132F\, Anchorage
UID:e.1417.14638
SEQUENCE:3
DTSTAMP:20260421T052914Z
URL:https://business.anchoragechamber.org/events/details/parlando-the-b-side-14638
END:VEVENT

END:VCALENDAR
