BEGIN:VCALENDAR
VERSION:2.0
PRODID:-//ChamberMaster//Event Calendar 2.0//EN
METHOD:PUBLISH
X-PUBLISHED-TTL:P3D
REFRESH-INTERVAL:P3D
CALSCALE:GREGORIAN
BEGIN:VEVENT
DTSTART:20260509T180000Z
DTEND:20260509T230000Z
X-MICROSOFT-CDO-ALLDAYEVENT:FALSE
SUMMARY:Parkinson’s Today: A Conversation on Care\, Treatment\, and Living Well
DESCRIPTION:Event Details: Saturday\, May 9\, 2026 ? 10:00   3:00 pm (Doors open at 9:00 am)  Anchorage Senior Activity Center 1300 East 19th Ave\, Anchorage Free Program\, Lunch Included\, Registration Required Register at: apda.link/anchorage26 Join us for a conversation-driven conference designed to inform\, empower\, and connect. Whether you're living with Parkinson's\, caring for someone who is\, or simply want to learn more\, you'll find real talk\, practical tools\, and a supportive community.
X-ALT-DESC;FMTTYPE=text/html:Event Details: Saturday\, May 9\, 2026 ? 10:00 &ndash\; 3:00 pm (Doors open at 9:00 am)&nbsp\; Anchorage Senior Activity Center 1300 East 19th Ave\, Anchorage Free Program\, Lunch Included\, Registration Required Register at: apda.link/anchorage26 Join us for a conversation-driven conference designed to inform\, empower\, and connect. Whether you&rsquo\;re living with Parkinson&rsquo\;s\, caring for someone who is\, or simply want to learn more\, you&rsquo\;ll find real talk\, practical tools\, and a supportive community.
LOCATION:Anchorage Senior Activity Center 1300 East 19th Ave\, Anchorage
UID:e.1417.14909
SEQUENCE:3
DTSTAMP:20260422T154134Z
URL:https://business.anchoragechamber.org/events/details/parkinson-s-today-a-conversation-on-care-treatment-and-living-well-14909
END:VEVENT

END:VCALENDAR
