BEGIN:VCALENDAR
VERSION:2.0
PRODID:-//ChamberMaster//Event Calendar 2.0//EN
METHOD:PUBLISH
X-PUBLISHED-TTL:P3D
REFRESH-INTERVAL:P3D
CALSCALE:GREGORIAN
BEGIN:VEVENT
DTSTART:20250906T031500Z
DTEND:20250906T043000Z
X-MICROSOFT-CDO-ALLDAYEVENT:FALSE
SUMMARY:Opera in the Atrium
DESCRIPTION:Join Anchorage Opera as we pop up in the Anchorage Museum atrium for free performances as part of the First Friday festivities. For opera newbies and aficionados alike\, it's great fun   and good for the whole family! Drop by for a few minutes or get there early and get a seat so you can take in the whole program!
X-ALT-DESC;FMTTYPE=text/html:<br />\nJoin Anchorage Opera as we pop up in the Anchorage Museum atrium for free performances as part of the First Friday festivities. For opera newbies and aficionados alike\, it&rsquo\;s great fun &ndash\; and good for the whole family! Drop by for a few minutes or get there early and get a seat so you can take in the whole program!
LOCATION:Anchorage Museum
UID:e.1417.14637
SEQUENCE:3
DTSTAMP:20260421T042005Z
URL:https://business.anchoragechamber.org/events/details/opera-in-the-atrium-14637
END:VEVENT

END:VCALENDAR
