BEGIN:VCALENDAR
VERSION:2.0
PRODID:-//ChamberMaster//Event Calendar 2.0//EN
METHOD:PUBLISH
X-PUBLISHED-TTL:P3D
REFRESH-INTERVAL:P3D
CALSCALE:GREGORIAN
BEGIN:VEVENT
DTSTART:20241223T203000Z
DTEND:20241223T220000Z
X-MICROSOFT-CDO-ALLDAYEVENT:FALSE
SUMMARY:No Monday Forum - Happy Holidays!
DESCRIPTION:Happy Holidays! For the "Make it Monday" forum schedule\, please visit the Anchorage Chamber event calendar.
X-ALT-DESC;FMTTYPE=text/html:<br />\n<em>Happy Holidays!</em> For the &quot\;Make it Monday&quot\; forum schedule\, please visit&nbsp\;the Anchorage Chamber <a href="https://business.anchoragechamber.org/events/calendarcatgid/6%C2%A0" target="_blank">event calendar</a>.
LOCATION:
UID:e.1417.12980
SEQUENCE:3
DTSTAMP:20260419T211805Z
URL:https://business.anchoragechamber.org/events/details/no-monday-forum-happy-holidays-12980
END:VEVENT

END:VCALENDAR
