BEGIN:VCALENDAR
VERSION:2.0
PRODID:-//ChamberMaster//Event Calendar 2.0//EN
METHOD:PUBLISH
X-PUBLISHED-TTL:P3D
REFRESH-INTERVAL:P3D
CALSCALE:GREGORIAN
BEGIN:VEVENT
DTSTART;VALUE=DATE:20250621
DTEND;VALUE=DATE:20250622
TRANSP:TRANSPARENT
X-MICROSOFT-CDO-ALLDAYEVENT:TRUE
SUMMARY:NAVY WEEK & Summer Solstice Celebration
DESCRIPTION:Enjoy celebrating the Summer Solstice along with members of the US Navy Band\, USS Constitution History and Heritage\, and Naval Observatory! Downtown Anchorage all day! In conjunctions with NAVY WEEK\, June 16-22\, 2025\, Anchorage\, AK
X-ALT-DESC;FMTTYPE=text/html:Enjoy celebrating the Summer Solstice along with members of the US Navy Band\, USS Constitution History and Heritage\, and Naval Observatory! Downtown Anchorage all day! In conjunctions with NAVY WEEK\, June 16-22\, 2025\, Anchorage\, AK
LOCATION:4th & E\, Downtown Anchorage\, and the Delaney Park Strip
UID:e.1417.14524
SEQUENCE:3
DTSTAMP:20260422T044651Z
URL:https://business.anchoragechamber.org/events/details/navy-week-summer-solstice-celebration-14524
END:VEVENT

END:VCALENDAR
