BEGIN:VCALENDAR
VERSION:2.0
PRODID:-//ChamberMaster//Event Calendar 2.0//EN
METHOD:PUBLISH
X-PUBLISHED-TTL:P3D
REFRESH-INTERVAL:P3D
CALSCALE:GREGORIAN
BEGIN:VEVENT
DTSTART:20250604T190000Z
DTEND:20250604T210000Z
X-MICROSOFT-CDO-ALLDAYEVENT:FALSE
SUMMARY:National Civics Bee - Alaska
DESCRIPTION:The Alaska Chamber is proud to partner once again with the U.S. Chamber of Commerce Foundation to host the second annual National Civics Bee Alaska State Finals! This exciting competition invites 6th\, 7th\, and 8th grade students to showcase their civics knowledge and passion for community involvement\, with opportunities to earn recognition and cash prizes.\n\nThe Statewide Live Event will take place on Wednesday\, June 4th at Bear's Tooth Theatre in Anchorage.\n\nLast year\, Alaska's own Emily won the inaugural National Civics Bee\, bringing national recognition to our state and demonstrating the incredible talent of young Alaskans.\n\nThis year's Alaska State Champion will advance to represent our state at the National Civics Bee Championship in Washington\, DC this fall!
X-ALT-DESC;FMTTYPE=text/html:<p font-size:="" open="">The Alaska Chamber is proud to partner once again with the U.S. Chamber of Commerce Foundation to host the second annual&nbsp\;National Civics Bee Alaska State Finals!&nbsp\;This exciting competition invites 6th\, 7th\, and 8th grade students to showcase their civics knowledge and passion for community involvement\, with opportunities to earn recognition and cash prizes.</p>\n\n<p font-size:="" open="">The Statewide Live Event will take place on&nbsp\;Wednesday\, June 4th at Bear&#39\;s Tooth Theatre&nbsp\;in Anchorage.</p>\n\n<p font-size:="" open="">Last year\, Alaska&rsquo\;s own&nbsp\;Emily&nbsp\;won the inaugural National Civics Bee\, bringing national recognition to our state and demonstrating the incredible talent of young Alaskans.</p>\n\n<p font-size:="" open="">This year&rsquo\;s&nbsp\;Alaska State Champion&nbsp\;will advance to represent our state at the&nbsp\;National Civics Bee Championship in Washington\, DC&nbsp\;this fall!</p>\n
LOCATION:Bear Tooth Theater
UID:e.1417.14509
SEQUENCE:3
DTSTAMP:20260423T062719Z
URL:https://business.anchoragechamber.org/events/details/national-civics-bee-alaska-14509
END:VEVENT

END:VCALENDAR
