BEGIN:VCALENDAR
VERSION:2.0
PRODID:-//ChamberMaster//Event Calendar 2.0//EN
METHOD:PUBLISH
X-PUBLISHED-TTL:P3D
REFRESH-INTERVAL:P3D
CALSCALE:GREGORIAN
BEGIN:VEVENT
DTSTART:20230313T193000Z
DTEND:20230313T210000Z
X-MICROSOFT-CDO-ALLDAYEVENT:FALSE
SUMMARY:"Make it Monday" forum - Anchorage Municipality and School District Bonds
DESCRIPTION:Hear the Anchorage School District's COO\, Jim Anderson\, and Mayor Dave Bronson present the educational and municipal bonds that will be voted on April 4th.\n\n\n\n2023 ASD School Bond: Security and Safety Upgrades\n\n\n\nDid you know that the Anchorage School District (ASD) has more than 7 million square feet of facilities\, has about 90 school and support buildings\, and maintains the largest public facility footprint in the State of Alaska? \n\n\n\nAs Alaska's largest public school system\, the District's priority is to create a safe and secure environment for students and staff. Extending the useful life of its buildings ensures that the buildings adequately support the educational needs of our students. ASD budgets nearly $21 million annually for building and preventive maintenance. A quality school's functional life\, without major renewal\, ranges from 30 to 50 years. However\, for ASD's schools and support buildings many built in the 1960s and 1970s\, additional funds beyond the maintenance budget are occasionally required.\n\n\n\nThis is accomplished through its annual Capital Improvement Program\, funded by Municipal Bonds which will appear on the April 4thballot\, during the Municipal Election.\n\n\n\nThe ASD bond is Proposition 1 on this year's ballot.\n\n\n\nHave a question for the presenters?\n\n ASK IT HERE\n\n\n\n\n	New to Monday Forum? What to expect\n	Join our members-only Facebook group for updates\n	Sign up for Monday forum emails\n	Present at a Monday forum - Submit a proposal \n	Sponsor free lunch door prizes\n	Donate a door prize\n\n\n\n \nUPCOMING FORUMS\n\n\n\n\nMar 6"Make it Monday" forum - Anchorage Assembly Candi-Dating (Districts 4-6)\n\nMar 13"Make it Monday" forum - Anchorage Municipality and School District Bonds\n\nMar 20No Monday forum\n\nApr 3"Make it Monday" forum - Annual Anchorage Assembly Progress Report\n\nApr 10"Make it Monday" forum - Seafood Sustains Alaska's Economy\n\n\n\n\n/**/
X-ALT-DESC;FMTTYPE=text/html:<div trebuchet="">\n<p><br />\nHear the Anchorage School District&#39\;s COO\, Jim Anderson\, and&nbsp\;Mayor Dave Bronson present the educational and municipal bonds that will be voted on April 4th.<br />\n<br />\n<strong>2023 ASD School Bond: Security and Safety Upgrades</strong><br />\n<br />\nDid you know that the Anchorage School District (ASD) has more than 7 million square feet of facilities\, has about 90 school and support buildings\, and maintains the largest public facility footprint in the State of Alaska?&nbsp\;<br />\n<br />\nAs Alaska&rsquo\;s largest public school system\, the District&rsquo\;s priority is to create a safe and secure environment for students and staff. Extending the useful life of its buildings ensures that the buildings adequately support the educational needs of our students. ASD budgets nearly $21 million annually for building and preventive maintenance. A quality school&rsquo\;s functional life\, without major renewal\, ranges from 30 to 50 years. However\, for ASD&rsquo\;s schools and support buildings&mdash\;many built in the 1960s and 1970s\, additional funds beyond the maintenance budget are occasionally required.<br />\n<br />\nThis is accomplished through its annual Capital Improvement Program\, funded by Municipal Bonds which will appear on the April 4thballot\, during the Municipal Election.<br />\n<br />\nThe ASD bond is Proposition 1 on this year&rsquo\;s ballot.<br />\n<br />\n<strong>Have a question for the presenters?</strong><br />\n&#8203\;<a href="https://forms.gle/2ESkdKtaiXKAQ2RD9" target="_blank">ASK IT HERE</a></p>\n\n<div>\n<hr />\n<ul>\n	<li><strong>New to Monday Forum?</strong>&nbsp\;<strong><a href="https://www.anchoragechamber.org/make-it-monday/" target="_blank">What to expect</a></strong></li>\n	<li><strong><a href="https://www.facebook.com/groups/anchoragechamber" target="_blank">Join our members-only Facebook group</a></strong>&nbsp\;for updates</li>\n	<li><strong><a href="https://business.anchoragechamber.org/communication" target="_blank">Sign up</a></strong>&nbsp\;for Monday forum emails</li>\n	<li>Present&nbsp\;at a Monday forum -&nbsp\;<strong><a href="https://www.anchoragechamber.org/make-it-monday/" target="_blank">Submit a proposal</a>&nbsp\;</strong></li>\n	<li><strong><a href="https://drive.google.com/file/d/116RJc7vDgDAaqkoPGtR62IeGNt8TPBP6/view?usp=sharing" target="_blank">Sponsor</a></strong>&nbsp\;free lunch door prizes</li>\n	<li>Donate a&nbsp\;<strong><a href="https://business.anchoragechamber.org/form/view/24328" target="_blank">door prize</a></strong></li>\n</ul>\n</div>\n\n<hr />&nbsp\;\n<h5>UPCOMING FORUMS</h5>\n\n<div class="mn-widget-loaded" id="mni-widgets-1648068081583">\n<div class="mn-scroll-container" type="3">\n<div class="mn-scroll-slider">\n<div class="mn-scroll-item"><span class="mn-scroll-date">Mar 6</span><a class="mn-scroll-name mn-scroll-link" href="https://business.anchoragechamber.org/events/details/make-it-monday-forum-anchorage-assembly-candi-dating-districts-4-6-12216" target="_blank">&quot\;Make it Monday&quot\; forum - Anchorage Assembly Candi-Dating (Districts 4-6)</a></div>\n\n<div class="mn-scroll-item"><span class="mn-scroll-date">Mar 13</span><a class="mn-scroll-name mn-scroll-link" href="https://business.anchoragechamber.org/events/details/make-it-monday-forum-anchorage-municipality-and-school-district-bonds-12241" target="_blank">&quot\;Make it Monday&quot\; forum - Anchorage Municipality and School District Bonds</a></div>\n\n<div class="mn-scroll-item"><span class="mn-scroll-date">Mar 20</span><a class="mn-scroll-name mn-scroll-link" href="https://business.anchoragechamber.org/events/details/no-monday-forum-12113" target="_blank">No Monday forum</a></div>\n\n<div class="mn-scroll-item"><span class="mn-scroll-date">Apr 3</span><a class="mn-scroll-name mn-scroll-link" href="https://business.anchoragechamber.org/events/details/make-it-monday-forum-annual-anchorage-assembly-progress-report-12212" target="_blank">&quot\;Make it Monday&quot\; forum - Annual Anchorage Assembly Progress Report</a></div>\n\n<div class="mn-scroll-item"><span class="mn-scroll-date">Apr 10</span><a class="mn-scroll-name mn-scroll-link" href="https://business.anchoragechamber.org/events/details/make-it-monday-forum-seafood-sustains-alaska-s-economy-12217" target="_blank">&quot\;Make it Monday&quot\; forum - Seafood Sustains Alaska&#39\;s Economy</a></div>\n</div>\n</div>\n</div>\n<script type="text/javascript">\n/*<![CDATA[*/\nvar _mniwq=_mniwq||[]\;\n_mniwq.push(["1648068081583.type"\,"events_upcoming"]\,["1648068081583.display"\,"text"]\,["1648068081583.category"\,24]\,["1648068081583.marquee"\,false]\,["1648068081583.showEndDate"\,false]\,["1648068081583.showLocation"\,false]\,["1648068081583.showLinks"\,true]\,["1648068081583.popUp"\,true]\,["1648068081583.dateFormat"\,"MMM d"]\,["1648068081583.styleTemplate"\,"#@id .mn-scroll-container{font-family:Oxygen\,sans-serif\;font-size:16px\;line-height:130%\;margin:8px\;position:relative}#@id .mn-scroll-item{-moz-border-radius:5px\;-webkit-border-radius:5px\;background-clip:padding-box\;background-color:#277BE7\;border-radius:5px\;color:#FFFFFF\;margin:0 0 4px\;position:relative}#@id .mn-scroll-item:hover{background-color:#BFD6F2\;color:#FFFFFF}#@id .mn-scroll-name\,#@id .mn-scroll-teaser{display:block\;padding:5px 3px 5px 58px\;position:relative}#@id .mn-scroll-link{color:inherit\;text-decoration:none}#@id .mn-scroll-link:hover{text-decoration:underline}#@id .mn-scroll-date{font-size:75%\;font-weight:700\;left:3px\;position:absolute\;text-align:center\;top:5px\;width:50px}"]\,["1648068081583.create"\,"mni-widgets-1648068081583"])\;\n(function(b\,d\,a\,c){b.getElementById(d)||(c=b.getElementsByTagName(a)[0]\,a=b.createElement(a)\,a.type="text/javascript"\,a.async=!0\,a.src="https://business.anchoragechamber.org/Content/Script/Widgets.js"\,c.parentNode.insertBefore(a\,c))})(document\,"mni-widgets-script"\,"script")\;\n/*]]>*/\n</script></div>\n
LOCATION:Dena'ina Civic & Convention Center
UID:e.1417.12241
SEQUENCE:3
DTSTAMP:20260425T014041Z
URL:https://business.anchoragechamber.org/events/details/make-it-monday-forum-anchorage-municipality-and-school-district-bonds-12241
END:VEVENT

END:VCALENDAR
