BEGIN:VCALENDAR
VERSION:2.0
PRODID:-//ChamberMaster//Event Calendar 2.0//EN
METHOD:PUBLISH
X-PUBLISHED-TTL:P3D
REFRESH-INTERVAL:P3D
CALSCALE:GREGORIAN
BEGIN:VEVENT
DTSTART:20241021T193000Z
DTEND:20241021T210000Z
X-MICROSOFT-CDO-ALLDAYEVENT:FALSE
SUMMARY:"Make it Monday" Congressional Candidate Forum
DESCRIPTION:Meet Alaska's Congressional candidates and hear them share their vision for Alaska's future.\n\n\n\nConfirmed candidates:\n\n\n	Nick Begich\n	Mary Peltola\n\n \n\n\nHave a specific question for the presenters?\n\n ASK IT HERE\n\n\n\n\n	New to Monday Forum? What to expect\n	Join our members-only Facebook group for updates\n	Sign up for Monday forum emails\n	Present at a Monday forum - Submit a proposal \n	Sponsor free lunch door prizes\n	Donate a door prize\n\n\n\n \nUPCOMING FORUMS\n\n\n\n\nOct 21"Make it Monday" Congressional Candidate Forum\n\nOct 28"Make it Monday" forum - State of the City Address\n\nNov 4"Make it Monday" forum - Veteran Business Showcase\n\nNov 11No Monday Forum - Veterans Day\n\nNov 18"Make it Monday" forum - Great Alaska Shootout\n\nDec 2"Make it Monday" forum - YPG Takeover\n\nDec 9"Make it Monday" forum - Academies of Anchorage\n\nDec 23No Monday Forum - Happy Holidays!\n\nJan 20No Monday forum - Martin Luther King Jr. Day\n\nFeb 17No Monday forum - Presidents' Day\n\n\n\n\n/**/
X-ALT-DESC;FMTTYPE=text/html:<div trebuchet="">\n<p>Meet Alaska&#39\;s&nbsp\;Congressional&nbsp\;candidates and hear them share their vision for Alaska&#39\;s future.<br />\n<br />\nConfirmed candidates:</p>\n\n<ul>\n	<li>Nick Begich</li>\n	<li>Mary Peltola</li>\n</ul>\n&nbsp\;\n\n<hr />\n<p><strong>Have a specific question for the presenters?</strong><br />\n&#8203\;<a href="https://forms.gle/2ESkdKtaiXKAQ2RD9" target="_blank">ASK IT HERE</a></p>\n\n<div>\n<hr />\n<ul>\n	<li><strong>New to Monday Forum?</strong>&nbsp\;<strong><a href="https://www.anchoragechamber.org/make-it-monday/" target="_blank">What to expect</a></strong></li>\n	<li><strong><a href="https://www.facebook.com/groups/anchoragechamber" target="_blank">Join our members-only Facebook group</a></strong>&nbsp\;for updates</li>\n	<li><strong><a href="https://business.anchoragechamber.org/communication" target="_blank">Sign up</a></strong>&nbsp\;for Monday forum emails</li>\n	<li>Present&nbsp\;at a Monday forum -&nbsp\;<strong><a href="https://www.anchoragechamber.org/make-it-monday/" target="_blank">Submit a proposal</a>&nbsp\;</strong></li>\n	<li><strong><a href="https://drive.google.com/file/d/116RJc7vDgDAaqkoPGtR62IeGNt8TPBP6/view?usp=sharing" target="_blank">Sponsor</a></strong>&nbsp\;free lunch door prizes</li>\n	<li>Donate a&nbsp\;<a href="https://form.jotform.com/242197249944064" target="_blank"><strong>door prize</strong></a></li>\n</ul>\n</div>\n\n<hr />&nbsp\;\n<h5>UPCOMING FORUMS</h5>\n\n<div class="mn-widget-loaded" id="mni-widgets-1648068081583">\n<div class="mn-scroll-container" type="3">\n<div class="mn-scroll-slider">\n<div class="mn-scroll-item"><span class="mn-scroll-date">Oct 21</span><a class="mn-scroll-name mn-scroll-link" href="https://business.anchoragechamber.org/events/details/make-it-monday-congressional-candidate-forum-13334" target="_blank">&quot\;Make it Monday&quot\; Congressional Candidate Forum</a></div>\n\n<div class="mn-scroll-item"><span class="mn-scroll-date">Oct 28</span><a class="mn-scroll-name mn-scroll-link" href="https://business.anchoragechamber.org/events/details/make-it-monday-forum-state-of-the-city-address-10-28-2024-13431" target="_blank">&quot\;Make it Monday&quot\; forum - State of the City Address</a></div>\n\n<div class="mn-scroll-item"><span class="mn-scroll-date">Nov 4</span><a class="mn-scroll-name mn-scroll-link" href="https://business.anchoragechamber.org/events/details/make-it-monday-forum-veteran-business-showcase-13338" target="_blank">&quot\;Make it Monday&quot\; forum - Veteran Business Showcase</a></div>\n\n<div class="mn-scroll-item"><span class="mn-scroll-date">Nov 11</span><a class="mn-scroll-name mn-scroll-link" href="https://business.anchoragechamber.org/events/details/no-monday-forum-veterans-day-12978" target="_blank">No Monday Forum - Veterans Day</a></div>\n\n<div class="mn-scroll-item"><span class="mn-scroll-date">Nov 18</span><a class="mn-scroll-name mn-scroll-link" href="https://business.anchoragechamber.org/events/details/make-it-monday-forum-great-alaska-shootout-13169" target="_blank">&quot\;Make it Monday&quot\; forum - Great Alaska Shootout</a></div>\n\n<div class="mn-scroll-item"><span class="mn-scroll-date">Dec 2</span><a class="mn-scroll-name mn-scroll-link" href="https://business.anchoragechamber.org/events/details/make-it-monday-forum-ypg-takeover-13432" target="_blank">&quot\;Make it Monday&quot\; forum - YPG Takeover</a></div>\n\n<div class="mn-scroll-item"><span class="mn-scroll-date">Dec 9</span><a class="mn-scroll-name mn-scroll-link" href="https://business.anchoragechamber.org/events/details/make-it-monday-forum-academies-of-anchorage-13482" target="_blank">&quot\;Make it Monday&quot\; forum - Academies of Anchorage</a></div>\n\n<div class="mn-scroll-item"><span class="mn-scroll-date">Dec 23</span><a class="mn-scroll-name mn-scroll-link" href="https://business.anchoragechamber.org/events/details/no-monday-forum-happy-holidays-12980" target="_blank">No Monday Forum - Happy Holidays!</a></div>\n\n<div class="mn-scroll-item"><span class="mn-scroll-date">Jan 20</span><a class="mn-scroll-name mn-scroll-link" href="https://business.anchoragechamber.org/events/details/no-monday-forum-martin-luther-king-jr-day-01-20-2025-12993" target="_blank">No Monday forum - Martin Luther King Jr. Day</a></div>\n\n<div class="mn-scroll-item"><span class="mn-scroll-date">Feb 17</span><a class="mn-scroll-name mn-scroll-link" href="https://business.anchoragechamber.org/events/details/no-monday-forum-presidents-day-02-17-2025-13016" target="_blank">No Monday forum - Presidents&#39\; Day</a></div>\n</div>\n</div>\n</div>\n<script type="text/javascript">\n/*<![CDATA[*/\nvar _mniwq=_mniwq||[]\;\n_mniwq.push(["1648068081583.type"\,"events_upcoming"]\,["1648068081583.display"\,"text"]\,["1648068081583.category"\,24]\,["1648068081583.marquee"\,false]\,["1648068081583.showEndDate"\,false]\,["1648068081583.showLocation"\,false]\,["1648068081583.showLinks"\,true]\,["1648068081583.popUp"\,true]\,["1648068081583.dateFormat"\,"MMM d"]\,["1648068081583.styleTemplate"\,"#@id .mn-scroll-container{font-family:Oxygen\,sans-serif\;font-size:16px\;line-height:130%\;margin:8px\;position:relative}#@id .mn-scroll-item{-moz-border-radius:5px\;-webkit-border-radius:5px\;background-clip:padding-box\;background-color:#277BE7\;border-radius:5px\;color:#FFFFFF\;margin:0 0 4px\;position:relative}#@id .mn-scroll-item:hover{background-color:#BFD6F2\;color:#FFFFFF}#@id .mn-scroll-name\,#@id .mn-scroll-teaser{display:block\;padding:5px 3px 5px 58px\;position:relative}#@id .mn-scroll-link{color:inherit\;text-decoration:none}#@id .mn-scroll-link:hover{text-decoration:underline}#@id .mn-scroll-date{font-size:75%\;font-weight:700\;left:3px\;position:absolute\;text-align:center\;top:5px\;width:50px}"]\,["1648068081583.create"\,"mni-widgets-1648068081583"])\;\n(function(b\,d\,a\,c){b.getElementById(d)||(c=b.getElementsByTagName(a)[0]\,a=b.createElement(a)\,a.type="text/javascript"\,a.async=!0\,a.src="https://business.anchoragechamber.org/Content/Script/Widgets.js"\,c.parentNode.insertBefore(a\,c))})(document\,"mni-widgets-script"\,"script")\;\n/*]]>*/\n</script></div>\n\n<div>&nbsp\;</div>\n
LOCATION:Dena'ina Center\, 2nd floor
UID:e.1417.13334
SEQUENCE:3
DTSTAMP:20260426T002535Z
URL:https://business.anchoragechamber.org/events/details/make-it-monday-congressional-candidate-forum-13334
END:VEVENT

END:VCALENDAR
