BEGIN:VCALENDAR
VERSION:2.0
PRODID:-//ChamberMaster//Event Calendar 2.0//EN
METHOD:PUBLISH
X-PUBLISHED-TTL:P3D
REFRESH-INTERVAL:P3D
CALSCALE:GREGORIAN
BEGIN:VEVENT
DTSTART:20241122T020000Z
DTEND:20241122T030000Z
X-MICROSOFT-CDO-ALLDAYEVENT:FALSE
SUMMARY:Make It Classroom: Basic Window Screen Repair
DESCRIPTION:Join us and our friends from Habitat for Humanity and Quality Screens for a class on Basic Screen Repair! Join us and get hands-on practice with easier screen repairs so you can keep your windows open without the fear of those pesky bugs ruining your day! No experience necessary\; all materials provided. Class limited to 10 participants.
X-ALT-DESC;FMTTYPE=text/html:<br />\nJoin us and our friends from Habitat for Humanity and Quality Screens for a class on Basic Screen Repair! Join us and get hands-on practice with easier screen repairs so you can keep your windows open without the fear of those pesky bugs ruining your day! No experience necessary\; all materials provided. Class limited to 10 participants.
LOCATION:Make It Classroom Habitat ReStore 1200 W. Northern Lights Blvd.
UID:e.1417.13525
SEQUENCE:3
DTSTAMP:20260425T183408Z
URL:https://business.anchoragechamber.org/events/details/make-it-classroom-basic-window-screen-repair-13525
END:VEVENT

END:VCALENDAR
