BEGIN:VCALENDAR
VERSION:2.0
PRODID:-//ChamberMaster//Event Calendar 2.0//EN
METHOD:PUBLISH
X-PUBLISHED-TTL:P3D
REFRESH-INTERVAL:P3D
CALSCALE:GREGORIAN
BEGIN:VEVENT
DTSTART;VALUE=DATE:20210626
DTEND;VALUE=DATE:20210627
TRANSP:TRANSPARENT
X-MICROSOFT-CDO-ALLDAYEVENT:TRUE
SUMMARY:Lemonade Day Alaska
DESCRIPTION:Lemonade Day Alaska is a FREE\, fun\, experiential learning program that teaches youth how to start\, own\, and operate their own business   a lemonade stand. It began with a vision to shape Alaska into a place that breeds\, grows\, and attracts entrepreneurs. Each child that registers receives a yellow business backpack with an Entrepreneur Workbook that teaches them the lessons of Lemonade Day like creating budgets\, setting profit-making goals\, serving customers\, repaying investors\, and giving back to the community. Along the way\, they acquire skills in goal-setting\, problem-solving\, and gain self-esteem critical for future success. They keep all the money they make and are encouraged to spend some\, save some and share some.
X-ALT-DESC;FMTTYPE=text/html:Lemonade Day Alaska is a FREE\, fun\, experiential learning program that teaches youth how to start\, own\, and operate their own business &ndash\; a lemonade stand. It began with a vision to shape Alaska into a place that breeds\, grows\, and attracts entrepreneurs. Each child that registers receives a yellow business backpack with an Entrepreneur Workbook that teaches them the lessons of Lemonade Day like creating budgets\, setting profit-making goals\, serving customers\, repaying investors\, and giving back to the community. Along the way\, they acquire skills in goal-setting\, problem-solving\, and gain self-esteem critical for future success. They keep all the money they make and are encouraged to spend some\, save some and share some.
LOCATION:Anchorage
UID:e.1417.9651
SEQUENCE:3
DTSTAMP:20260423T032232Z
URL:https://business.anchoragechamber.org/events/details/lemonade-day-alaska-9651
END:VEVENT

END:VCALENDAR
