BEGIN:VCALENDAR
VERSION:2.0
PRODID:-//ChamberMaster//Event Calendar 2.0//EN
METHOD:PUBLISH
X-PUBLISHED-TTL:P3D
REFRESH-INTERVAL:P3D
CALSCALE:GREGORIAN
BEGIN:VEVENT
DTSTART:20250801T190000Z
DTEND:20250802T030000Z
X-MICROSOFT-CDO-ALLDAYEVENT:FALSE
SUMMARY:HUGSS - Helping Us Give School Supplies
DESCRIPTION:Help Us Give School Supplies (HUGSS) is a back-to-school event that provides essential school supplies and backpacks to ASD students\, helping them start the school year confident\, prepared\, and ready to learn.\n\n\n\nThis year\, our goal is to distribute 5\,000 backpacks filled with school supplies to ASD students.\n\n\n\nCost Breakdown:\n\n	Backpacks: At least $35\,000 (not including shipping)\n	School Supplies: Estimated between $18\,000-$30\,000\n\nWe rely on monetary gifts\, in-kind donations\, and community support to reach this goal.\n\n\n\nHOW YOU CAN HELP\n\n\n\nBecome a HUGSS Sponsor\n\nCommunity sponsors make this event possible. Your organization can support in several ways: \n\n	Donate new supplies - Backpacks\, paper\, pencils\, erasers\, and more\n\n	\n		Print HUGSS School Supply List\n	\n	\n	Spread the word - Share HUGSS information with your network\n	Make a donation - Monetary and in-kind contributions welcome\n	\n		Make an Online Donation Here
X-ALT-DESC;FMTTYPE=text/html:<br />\nHelp Us Give School Supplies (HUGSS) is a back-to-school event that provides essential school supplies and backpacks to ASD students\, helping them start the school year confident\, prepared\, and ready to learn.<br />\n<br />\nThis year\, our goal is to distribute 5\,000 backpacks filled with school supplies to ASD students.<br />\n<br />\n<strong>Cost Breakdown:</strong>\n<ul>\n	<li><strong>Backpacks: </strong>At least $35\,000 (not including shipping)</li>\n	<li><strong>School Supplies:</strong> Estimated between $18\,000-$30\,000</li>\n</ul>\nWe rely on monetary gifts\, in-kind donations\, and community support to reach this goal.<br />\n<br />\n<strong>HOW YOU CAN HELP</strong><br />\n<br />\n<strong>Become a HUGSS Sponsor</strong><br />\nCommunity sponsors make this event possible. Your organization can support in several ways:&nbsp\;\n<ul>\n	<li><strong>Donate new supplies</strong> - Backpacks\, paper\, pencils\, erasers\, and more\n\n	<ul>\n		<li><a href="https://www.asdk12.org/cms/lib/AK02207157/Centricity/Domain/1180/HUGGS%20Standardized%20School%20Supply%20List.pdf" target="_blank">Print HUGSS School Supply List</a></li>\n	</ul>\n	</li>\n	<li><strong>Spread the word</strong> - Share HUGSS information with your network</li>\n	<li><strong>Make a donation</strong> - Monetary and in-kind contributions welcome\n	<ul>\n		<li><a href="https://www.zeffy.com/en-US/fundraising/help-us-give-school-supplies-huggs" target="_blank">Make an Online Donation Here</a></li>\n	</ul>\n	</li>\n</ul>\n
LOCATION:Begich Middle School Donation drop-off location: ASD Education Center 5530 E Northern Lights Blvd. Monday - Friday\, 8:00 AM - 5:00 PM
UID:e.1417.14339
SEQUENCE:3
DTSTAMP:20260423T032433Z
URL:https://business.anchoragechamber.org/events/details/hugss-helping-us-give-school-supplies-14339
END:VEVENT

END:VCALENDAR
