BEGIN:VCALENDAR
VERSION:2.0
PRODID:-//ChamberMaster//Event Calendar 2.0//EN
METHOD:PUBLISH
X-PUBLISHED-TTL:P3D
REFRESH-INTERVAL:P3D
CALSCALE:GREGORIAN
BEGIN:VEVENT
DTSTART:20210415T190000Z
DTEND:20210415T200000Z
X-MICROSOFT-CDO-ALLDAYEVENT:FALSE
SUMMARY:How to Become Bankable Webinar
DESCRIPTION:How to Become Bankable Join us and Ervin Hetemi with Cook Inlet Lending\, and Kiersten Russell with Northrim Bank. Both presenters will be covering dos and don't when applying for financing through their institutions. This webinar is intended to provide checklists for steps to take\, and possible options when it comes to applying for business loans in the future. This webinar will go live on April 15\, from 11-12:30 p.m. (AKST). If you miss it\, you can still register and you will be automatically forwarded the recorded version once it goes live. Register online: https://alaska-mep.com/webinars
X-ALT-DESC;FMTTYPE=text/html:How to Become Bankable Join us and Ervin Hetemi with Cook Inlet Lending\, and Kiersten Russell with Northrim Bank. Both presenters will be covering dos and don&rsquo\;t when applying for financing through their institutions. This webinar is intended to provide checklists for steps to take\, and possible options when it comes to applying for business loans in the future. This webinar will go live on April 15\, from 11-12:30 p.m. (AKST). If you miss it\, you can still register and you will be automatically forwarded the recorded version once it goes live. Register online: https://alaska-mep.com/webinars
LOCATION:Online event. Register: https://alaska-mep.com/webinars.
UID:e.1417.9496
SEQUENCE:3
DTSTAMP:20260422T054710Z
URL:https://business.anchoragechamber.org/events/details/how-to-become-bankable-webinar-9496
END:VEVENT

END:VCALENDAR
