BEGIN:VCALENDAR
VERSION:2.0
PRODID:-//ChamberMaster//Event Calendar 2.0//EN
METHOD:PUBLISH
X-PUBLISHED-TTL:P3D
REFRESH-INTERVAL:P3D
CALSCALE:GREGORIAN
BEGIN:VEVENT
DTSTART:20170117T203000Z
DTEND:20170117T220000Z
X-MICROSOFT-CDO-ALLDAYEVENT:FALSE
SUMMARY:H.O.L.A. Chamber! Luncheon
DESCRIPTION:HOLA Anchorage gives you an opportunity to connect with professionals within Anchorage and the Chamber of Commerce\, looking to promote and connect with businesses and professionals within the Latino community.\n\n\n\nLunch catered by MUSE Restaurant.
X-ALT-DESC;FMTTYPE=text/html:<br />\nHOLA Anchorage gives you an opportunity to connect with professionals within Anchorage and the Chamber of Commerce\, looking to promote and connect with businesses and professionals within the Latino community.<br />\n<br />\nLunch catered by <a href="https://muse.anchoragemuseum.org/" target="_blank">MUSE&nbsp\;Restaurant</a>.
LOCATION:1016 W 6th Ave.\, 3rd floor
UID:e.1417.4951
SEQUENCE:3
DTSTAMP:20260424T084312Z
URL:https://business.anchoragechamber.org/events/details/h-o-l-a-chamber-luncheon-01-17-2017-4951
END:VEVENT

END:VCALENDAR
