BEGIN:VCALENDAR
VERSION:2.0
PRODID:-//ChamberMaster//Event Calendar 2.0//EN
METHOD:PUBLISH
X-PUBLISHED-TTL:P3D
REFRESH-INTERVAL:P3D
CALSCALE:GREGORIAN
BEGIN:VEVENT
DTSTART:20201016T230000Z
DTEND:20201017T013000Z
X-MICROSOFT-CDO-ALLDAYEVENT:FALSE
SUMMARY:Grand Opening & Ribbon Cutting - You Beauty & Sip Coffee Lounge
DESCRIPTION:Please join us for the grand opening and ribbon cutting of You Beauty Lounge & Sip Coffee! Help us kick off the weekend by joining us for our Ribbon cutting Ceremony at 4:15 pm. There will be prizes\, swag\, and coffee flights!\n\n\n\nIf  you are planning on attending\, please RSVP so that we can ensure not to exceed mayor's maximum event capacity mandates. Don't forget to mask up and we look forward to seeing you there!\n\n\n\nFOLLOW OUR EVENTS ON FACEBOOK!\n\n\n\nThe Anchorage Chamber of Commerce is pleased to offer members an opportunity for more exposure at their business with an official Ribbon Cutting ceremony. This free service is for members who have recently opened their doors for the first time\, moved to a new location\, or expanded its current location. For more info\, visit anchoragechamber.org/programs/ribbon-cutting-ceremony.\n\n\n\nQUESTIONS? \n\nContact Tabitha at 677-7110 or tabitha@anchoragechamber.org.
X-ALT-DESC;FMTTYPE=text/html:<br />\n<span style="font-size:14px\;"><span style="font-family:arial\;">Please join us&nbsp\;for the<b>&nbsp\;</b>grand opening and ribbon cutting of </span><font face="Helvetica"><b><a href="https://youbeautylounge.com/">You Beauty Lounge</a> &amp\; <a href="https://startwithasip.com/">Sip Coffee</a></b></font><span style="font-family: arial\; color: rgb(29\, 33\, 41)\;">! Help us kick off the weekend by joining us for our Ribbon cutting Ceremony at 4:15 pm. There will be prizes\, swag\, and coffee flights!</span><br />\n<br />\n<span style="color: rgb(60\, 64\, 67)\; font-family: Roboto\, Helvetica\, Arial\, sans-serif\; background-color: rgb(241\, 243\, 244)\;">If&nbsp\; you are planning on attending\, please RSVP so that we can ensure not to exceed mayor&#39\;s maximum event capacity mandates. Don&#39\;t forget to mask up and we look forward to seeing you there!</span></span><br />\n<br />\n<a href="https://www.facebook.com/AnchorageChamber/events/" target="_blank">FOLLOW OUR EVENTS ON FACEBOOK!</a><br />\n<br />\n<span style="color: rgb(75\, 79\, 86)\; font-family: Helvetica\, Arial\, sans-serif\; font-size: 14px\;">The Anchorage Chamber of Commerce is pleased to offer members an opportunity for more exposure at their business with an official Ribbon Cutting ceremony. This free service is for members who have recently opened their doors for the first time\, moved to a new location\, or expanded its current location. For more info\, visit&nbsp\;</span><a data-lynx-mode="async" href="https://l.facebook.com/l.php?u=http%3A%2F%2Fanchoragechamber.org%2Fprograms%2Fribbon-cutting-ceremony&amp\;h=ATOvf9jFEz0xX_mWwJBmq_WFMZpmO-EclGIVLNHnsP02vaNSLyP63fvBTILlJOu5_oiabrwWC0yIsxdN7jmEfA99wOWVavdAl36GeJyx3iK3SPeh7UdAcTalzAm3Kl6aBv-gKs9KJPXaN0AxjzupQ2233mBNVah00V9Rj2Ex4wI5LQ" rel="nofollow noopener" style="color: rgb(54\, 88\, 153)\; font-family: Helvetica\, Arial\, sans-serif\; font-size: 14px\; text-decoration-line: none\;" target="_blank"><span style="font-family: inherit\;">anchoragechamber.org/</span><wbr /><span style="font-family: inherit\;">programs/</span><wbr />ribbon-cutting-ceremony</a><span style="color: rgb(75\, 79\, 86)\; font-family: Helvetica\, Arial\, sans-serif\; font-size: 14px\;">.</span><br style="color: rgb(75\, 79\, 86)\; font-family: Helvetica\, Arial\, sans-serif\; font-size: 14px\;" />\n<br style="color: rgb(75\, 79\, 86)\; font-family: Helvetica\, Arial\, sans-serif\; font-size: 14px\;" />\n<strong><span style="color: rgb(75\, 79\, 86)\; font-family: Helvetica\, Arial\, sans-serif\; font-size: 14px\;">QUESTIONS?&nbsp\;</span></strong><br style="color: rgb(75\, 79\, 86)\; font-family: Helvetica\, Arial\, sans-serif\; font-size: 14px\;" />\n<span style="color: rgb(75\, 79\, 86)\; font-family: Helvetica\, Arial\, sans-serif\; font-size: 14px\;">Contact Tabitha at 677-7110 or tabitha@anchoragechamber.o</span><wbr style="color: rgb(75\, 79\, 86)\; font-family: Helvetica\, Arial\, sans-serif\; font-size: 14px\;" /><span style="color: rgb(75\, 79\, 86)\; font-family: Helvetica\, Arial\, sans-serif\; font-size: 14px\;">rg.</span>
LOCATION:510 W Tudor Rd. Ste. 7 Anchorage\, AK 99503
UID:e.1417.8734
SEQUENCE:3
DTSTAMP:20260421T131318Z
URL:https://business.anchoragechamber.org/events/details/grand-opening-ribbon-cutting-you-beauty-sip-coffee-lounge-10-16-2020-8734
END:VEVENT

END:VCALENDAR
