BEGIN:VCALENDAR
VERSION:2.0
PRODID:-//ChamberMaster//Event Calendar 2.0//EN
METHOD:PUBLISH
X-PUBLISHED-TTL:P3D
REFRESH-INTERVAL:P3D
CALSCALE:GREGORIAN
BEGIN:VEVENT
DTSTART:20210121T220000Z
DTEND:20210121T230000Z
X-MICROSOFT-CDO-ALLDAYEVENT:FALSE
SUMMARY:Fraud Watchdog Workshop
DESCRIPTION:Join AARP Alaska's Volunteer Fraud Education expert\, Michelle Tabler\, for a presentation on identity theft and how to protect yourself.
X-ALT-DESC;FMTTYPE=text/html:<br />\nJoin AARP Alaska&#39\;s Volunteer Fraud Education expert\, Michelle Tabler\, for a presentation on identity theft and how to protect yourself.
LOCATION:Register here: https://aarp.cvent.com/FWDJAN2021
UID:e.1417.9007
SEQUENCE:3
DTSTAMP:20260423T233506Z
URL:https://business.anchoragechamber.org/events/details/fraud-watchdog-workshop-9007
END:VEVENT

END:VCALENDAR
