BEGIN:VCALENDAR
VERSION:2.0
PRODID:-//ChamberMaster//Event Calendar 2.0//EN
METHOD:PUBLISH
X-PUBLISHED-TTL:P3D
REFRESH-INTERVAL:P3D
CALSCALE:GREGORIAN
BEGIN:VEVENT
DTSTART:20241106T180000Z
DTEND:20241107T000000Z
X-MICROSOFT-CDO-ALLDAYEVENT:FALSE
SUMMARY:Employment First Conference
DESCRIPTION:The Employment First Conference is for business owners and managers to enhance hiring and retention opportunities and practices of skilled and qualified staff and workers. Network with other entrepreneurs and leaders for ideas on how to manage your business's culture and growth by learning trends in employment and hiring practices that are effective today in the changing workforce of Alaska. This one day conference will focus on diversity and growth in your business with presentations and resources on topics such as utilizing untapped labor pools\, artificial intelligence in the workplace\, tax incentives\, universal design\, accommodations\, mental health\, and local business owners experience to successful business growth.
X-ALT-DESC;FMTTYPE=text/html:<br />\nThe Employment First Conference is for business owners and managers to enhance hiring and retention opportunities and practices of skilled and qualified staff and workers. Network with other entrepreneurs and leaders for ideas on how to manage your business&rsquo\;s culture and growth by learning trends in employment and hiring practices that are effective today in the changing workforce of Alaska. This one day conference will focus on diversity and growth in your business with presentations and resources on topics such as utilizing untapped labor pools\, artificial intelligence in the workplace\, tax incentives\, universal design\, accommodations\, mental health\, and local business owners experience to successful business growth.
LOCATION:Dena'ina Civic and Convention Center
UID:e.1417.13502
SEQUENCE:3
DTSTAMP:20260419T164127Z
URL:https://business.anchoragechamber.org/events/details/employment-first-conference-13502
END:VEVENT

END:VCALENDAR
