BEGIN:VCALENDAR
VERSION:2.0
PRODID:-//ChamberMaster//Event Calendar 2.0//EN
METHOD:PUBLISH
X-PUBLISHED-TTL:P3D
REFRESH-INTERVAL:P3D
CALSCALE:GREGORIAN
BEGIN:VEVENT
DTSTART:20260227T010000Z
DTEND:20260227T030000Z
X-MICROSOFT-CDO-ALLDAYEVENT:FALSE
SUMMARY:Emerging Professionals Event Happy Hour
DESCRIPTION:Join emerging and ascending peers at ADW Emerging Pros Happy Hour hosted at the Anchorage Museum Muse Restaurant. Join emerging and ascending peers at the Anchorage Design Week's Emerging Professionals Happy Hour hosted at the Anchorage Museum's MUSE Restaurant Thursday\, February 26th from 4p to 6p. Free admission includes light appetizers and registrants receiving one drink ticket for use at the cash bar. This collaborative Emerging Pros event is made possible with support by the Anchorage Museum and mmcit  . Make new friends as the next wave of decision-makers gather downtown with special presentations by visiting speakers Naomi Ratte (Canada) and Jeremie McGowan (Norway)\, followed by an ADW edition of City Nerd Nite at the nearby Seed Lab. Following the Emerging Professional Happy Hour\, jump over to Seed lab to learn about upcoming projects and creative winter solutions in the community of Anchorage as residents and civic leadership share rapid fire presentations as part of the fun\, fast evening program.
X-ALT-DESC;FMTTYPE=text/html:Join emerging and ascending peers at ADW Emerging Pros Happy Hour hosted at the Anchorage Museum Muse Restaurant. Join emerging and ascending peers at the Anchorage Design Week&#39\;s Emerging Professionals Happy Hour hosted at the Anchorage Museum&rsquo\;s MUSE Restaurant Thursday\, February 26th from 4p to 6p. Free admission includes light appetizers and registrants receiving one drink ticket for use at the cash bar. This collaborative Emerging Pros event is made possible with support by the Anchorage Museum and mmcit&eacute\; . Make new friends as the next wave of decision-makers gather downtown with special presentations by visiting speakers Naomi Ratte (Canada) and Jeremie McGowan (Norway)\, followed by an ADW edition of City Nerd Nite at the nearby Seed Lab. Following the Emerging Professional Happy Hour\, jump over to Seed lab to learn about upcoming projects and creative winter solutions in the community of Anchorage as residents and civic leadership share rapid fire presentations as part of the fun\, fast evening program.
LOCATION:Muse at the Anchorage Museum 625 C Street Anchorage\, AK 99501
UID:e.1417.14837
SEQUENCE:3
DTSTAMP:20260422T171021Z
URL:https://business.anchoragechamber.org/events/details/emerging-professionals-event-happy-hour-14837
END:VEVENT

END:VCALENDAR
