BEGIN:VCALENDAR
VERSION:2.0
PRODID:-//ChamberMaster//Event Calendar 2.0//EN
METHOD:PUBLISH
X-PUBLISHED-TTL:P3D
REFRESH-INTERVAL:P3D
CALSCALE:GREGORIAN
BEGIN:VEVENT
DTSTART:20210617T210000Z
DTEND:20210617T220000Z
X-MICROSOFT-CDO-ALLDAYEVENT:FALSE
SUMMARY:Elder Fraud Prevention Trainign
DESCRIPTION:World Elder Abuse Day takes place in mid-June each year and AARP AK wants to help you stay informed on what you and your family need to know about elder abuse. This presentation will focus on financial abuse of elders and be presented by Beth Goldstein\, Deputy Director/Supervising Attorney\, Alaska Office of Public Advocacy Elder Fraud & Assistance and Public Guardian Units.?
X-ALT-DESC;FMTTYPE=text/html:World Elder Abuse Day takes place in mid-June each year and AARP AK wants to help you stay informed on what you and your family need to know about elder abuse. This presentation will focus on financial abuse of elders and be presented by Beth Goldstein\, Deputy Director/Supervising Attorney\, Alaska Office of Public Advocacy Elder Fraud &amp\; Assistance and Public Guardian Units.?
LOCATION:https://aarp.cvent.com/JUN172021
UID:e.1417.9721
SEQUENCE:3
DTSTAMP:20260425T103025Z
URL:https://business.anchoragechamber.org/events/details/elder-fraud-prevention-trainign-9721
END:VEVENT

END:VCALENDAR
