BEGIN:VCALENDAR
VERSION:2.0
PRODID:-//ChamberMaster//Event Calendar 2.0//EN
METHOD:PUBLISH
X-PUBLISHED-TTL:P3D
REFRESH-INTERVAL:P3D
CALSCALE:GREGORIAN
BEGIN:VEVENT
DTSTART:20250615T210000Z
DTEND:20250616T000000Z
X-MICROSOFT-CDO-ALLDAYEVENT:FALSE
SUMMARY:Dad Games 2025
DESCRIPTION:CALLING ALL LEGENDARY DADS!\n\nGather your family crew\, suit up\, and get ready for the 2nd Annual DAD GAMES Competition at Dave & Buster's Anchorage\n\nIt's time for dads and their families to go head-to-head in the ultimate arcade showdown. Think you've got what it takes to lead your team to victory? Now's your chance to prove it!\n\nTeam Spirit Counts!\n\nWe highly encourage families to go all out with matching shirts\, team colors\, face paint\, or themed costumes\, the more creative\, the better! We'll be awarding a special Most Spirited Family Prize\, so don't hold back. Bring the energy\, bring the fun\, and show us what you've got!\n\nGrand Prize:\n\n\n	Ultimate bragging rights\n	A shiny D&B trophy\n	*FREE game play for a family of four for an entire year!\n	Photo of Dad with the trophy displayed at Dave & Buster's for an entire year\n	Four (4) complimentary tickets to attend our 3rd Annual DAD GAMES 2026\,  so you can come back next year to defend your title and your honor!\n\n\n \n\nYour Standard DAD GAMES Ticket Includes:\n\n\n	Entry into DAD GAMES Event\n	$20 Power Card  which is required to participate in the DAD GAMES Competition\n	Access to our mouthwatering Game Day Bytes banquet\n	Unlimited soft drinks\n	Taxes & suggested 18% gratuity included\n	*Level Up your ticket for just $5.00 more & receive Unlimited Video Game Play\n\n\n \n\nDAD BONUS:\n\nThe first 100 families that purchase tickets will score an exclusive DAD GAMES Baseball Hat for their #1 Dad!\n\nGame Day Bytes Banquet Menu:\n\nFlatbread Cheese Pizza\, Mini All-Beef Pretzel Dogs\, Boneless Wings\, Garlic Butter Pretzel Sticks with Marinara\, French Fries & Unlimited Soft Drinks.\n\nSpots are limited and the competition is heating up!\n\nSecure your tickets today and bring your A-game\, costumes\, cheers\, and all!
X-ALT-DESC;FMTTYPE=text/html:<p style="font-family: &quot\;Open Sans&quot\;\, Arial\; margin: 0px 0px 20px\; padding: 0px\; border: 0px\; font-variant-numeric: inherit\; font-variant-east-asian: inherit\; font-variant-alternates: inherit\; font-variant-position: inherit\; font-variant-emoji: inherit\; font-stretch: inherit\; font-size: medium\; line-height: 1.5em\; font-optical-sizing: inherit\; font-size-adjust: inherit\; font-kerning: inherit\; font-feature-settings: inherit\; font-variation-settings: inherit\; vertical-align: baseline\; box-sizing: border-box\; color: rgb(0\, 0\, 0)\;"><strong style="font-family: inherit\; margin: 0px\; padding: 0px\; border: 0px\; font-style: inherit\; font-variant: inherit\; font-weight: bold\; font-stretch: inherit\; font-size: inherit\; line-height: inherit\; font-optical-sizing: inherit\; font-size-adjust: inherit\; font-kerning: inherit\; font-feature-settings: inherit\; font-variation-settings: inherit\; vertical-align: baseline\; box-sizing: border-box\;">CALLING ALL LEGENDARY DADS!</strong><br />\nGather your family crew\, suit up\, and get ready for the&nbsp\;<strong style="font-family: inherit\; margin: 0px\; padding: 0px\; border: 0px\; font-style: inherit\; font-variant: inherit\; font-weight: bold\; font-stretch: inherit\; font-size: inherit\; line-height: inherit\; font-optical-sizing: inherit\; font-size-adjust: inherit\; font-kerning: inherit\; font-feature-settings: inherit\; font-variation-settings: inherit\; vertical-align: baseline\; box-sizing: border-box\;">2nd Annual DAD GAMES Competition</strong>&nbsp\;at Dave &amp\; Buster&rsquo\;s<strong style="font-family: inherit\; margin: 0px\; padding: 0px\; border: 0px\; font-style: inherit\; font-variant: inherit\; font-weight: bold\; font-stretch: inherit\; font-size: inherit\; line-height: inherit\; font-optical-sizing: inherit\; font-size-adjust: inherit\; font-kerning: inherit\; font-feature-settings: inherit\; font-variation-settings: inherit\; vertical-align: baseline\; box-sizing: border-box\;">&nbsp\;Anchorage</strong></p>\n\n<p style="font-family: &quot\;Open Sans&quot\;\, Arial\; margin: 0px 0px 20px\; padding: 0px\; border: 0px\; font-variant-numeric: inherit\; font-variant-east-asian: inherit\; font-variant-alternates: inherit\; font-variant-position: inherit\; font-variant-emoji: inherit\; font-stretch: inherit\; font-size: medium\; line-height: 1.5em\; font-optical-sizing: inherit\; font-size-adjust: inherit\; font-kerning: inherit\; font-feature-settings: inherit\; font-variation-settings: inherit\; vertical-align: baseline\; box-sizing: border-box\; color: rgb(0\, 0\, 0)\;">It&rsquo\;s time for dads and their families to go head-to-head in the ultimate arcade showdown. Think you&rsquo\;ve got what it takes to lead your team to victory? Now&rsquo\;s your chance to prove it!</p>\n\n<p style="font-family: &quot\;Open Sans&quot\;\, Arial\; margin: 0px 0px 20px\; padding: 0px\; border: 0px\; font-variant-numeric: inherit\; font-variant-east-asian: inherit\; font-variant-alternates: inherit\; font-variant-position: inherit\; font-variant-emoji: inherit\; font-stretch: inherit\; font-size: medium\; line-height: 1.5em\; font-optical-sizing: inherit\; font-size-adjust: inherit\; font-kerning: inherit\; font-feature-settings: inherit\; font-variation-settings: inherit\; vertical-align: baseline\; box-sizing: border-box\; color: rgb(0\, 0\, 0)\;"><strong style="font-family: inherit\; margin: 0px\; padding: 0px\; border: 0px\; font-style: inherit\; font-variant: inherit\; font-weight: bold\; font-stretch: inherit\; font-size: inherit\; line-height: inherit\; font-optical-sizing: inherit\; font-size-adjust: inherit\; font-kerning: inherit\; font-feature-settings: inherit\; font-variation-settings: inherit\; vertical-align: baseline\; box-sizing: border-box\;">Team Spirit Counts!</strong><br />\nWe highly encourage families to&nbsp\;<strong style="font-family: inherit\; margin: 0px\; padding: 0px\; border: 0px\; font-style: inherit\; font-variant: inherit\; font-weight: bold\; font-stretch: inherit\; font-size: inherit\; line-height: inherit\; font-optical-sizing: inherit\; font-size-adjust: inherit\; font-kerning: inherit\; font-feature-settings: inherit\; font-variation-settings: inherit\; vertical-align: baseline\; box-sizing: border-box\;">go all out with matching shirts\, team colors\, face paint\, or themed costumes</strong>\, the more creative\, the better! We&rsquo\;ll be awarding a special&nbsp\;<strong style="font-family: inherit\; margin: 0px\; padding: 0px\; border: 0px\; font-style: inherit\; font-variant: inherit\; font-weight: bold\; font-stretch: inherit\; font-size: inherit\; line-height: inherit\; font-optical-sizing: inherit\; font-size-adjust: inherit\; font-kerning: inherit\; font-feature-settings: inherit\; font-variation-settings: inherit\; vertical-align: baseline\; box-sizing: border-box\;">Most Spirited Family Prize</strong>\, so don&rsquo\;t hold back. Bring the energy\, bring the fun\, and show us what you&rsquo\;ve got!</p>\n\n<p style="font-family: &quot\;Open Sans&quot\;\, Arial\; margin: 0px 0px 20px\; padding: 0px\; border: 0px\; font-variant-numeric: inherit\; font-variant-east-asian: inherit\; font-variant-alternates: inherit\; font-variant-position: inherit\; font-variant-emoji: inherit\; font-stretch: inherit\; font-size: medium\; line-height: 1.5em\; font-optical-sizing: inherit\; font-size-adjust: inherit\; font-kerning: inherit\; font-feature-settings: inherit\; font-variation-settings: inherit\; vertical-align: baseline\; box-sizing: border-box\; color: rgb(0\, 0\, 0)\;"><u style="font: inherit\; margin: 0px\; padding: 0px\; border: 0px\; vertical-align: baseline\; box-sizing: border-box\;"><strong style="font-family: inherit\; margin: 0px\; padding: 0px\; border: 0px\; font-style: inherit\; font-variant: inherit\; font-weight: bold\; font-stretch: inherit\; font-size: inherit\; line-height: inherit\; font-optical-sizing: inherit\; font-size-adjust: inherit\; font-kerning: inherit\; font-feature-settings: inherit\; font-variation-settings: inherit\; vertical-align: baseline\; box-sizing: border-box\;">Grand Prize:</strong></u></p>\n\n<ul style="font-family: &quot\;Open Sans&quot\;\, Arial\; margin: 0px\; padding-right: 0px\; padding-left: 10px\; border: 0px\; font-variant-numeric: inherit\; font-variant-east-asian: inherit\; font-variant-alternates: inherit\; font-variant-position: inherit\; font-variant-emoji: inherit\; font-stretch: inherit\; font-size: medium\; line-height: inherit\; font-optical-sizing: inherit\; font-size-adjust: inherit\; font-kerning: inherit\; font-feature-settings: inherit\; font-variation-settings: inherit\; vertical-align: baseline\; box-sizing: border-box\; list-style-position: inside\; color: rgb(0\, 0\, 0)\;">\n	<li style="font: inherit\; margin: 0px\; padding: 0px\; border: 0px\; vertical-align: baseline\; box-sizing: border-box\;">Ultimate bragging rights</li>\n	<li style="font: inherit\; margin: 0px\; padding: 0px\; border: 0px\; vertical-align: baseline\; box-sizing: border-box\;">A shiny D&amp\;B trophy</li>\n	<li style="font: inherit\; margin: 0px\; padding: 0px\; border: 0px\; vertical-align: baseline\; box-sizing: border-box\;"><strong style="font-family: inherit\; margin: 0px\; padding: 0px\; border: 0px\; font-style: inherit\; font-variant: inherit\; font-weight: bold\; font-stretch: inherit\; font-size: inherit\; line-height: inherit\; font-optical-sizing: inherit\; font-size-adjust: inherit\; font-kerning: inherit\; font-feature-settings: inherit\; font-variation-settings: inherit\; vertical-align: baseline\; box-sizing: border-box\;">*FREE game play for a family of four&mdash\;for an entire year!</strong></li>\n	<li style="font: inherit\; margin: 0px\; padding: 0px\; border: 0px\; vertical-align: baseline\; box-sizing: border-box\;"><strong style="font-family: inherit\; margin: 0px\; padding: 0px\; border: 0px\; font-style: inherit\; font-variant: inherit\; font-weight: bold\; font-stretch: inherit\; font-size: inherit\; line-height: inherit\; font-optical-sizing: inherit\; font-size-adjust: inherit\; font-kerning: inherit\; font-feature-settings: inherit\; font-variation-settings: inherit\; vertical-align: baseline\; box-sizing: border-box\;">Photo of Dad with the trophy displayed at Dave &amp\; Buster&rsquo\;s for an entire year</strong></li>\n	<li style="font: inherit\; margin: 0px\; padding: 0px\; border: 0px\; vertical-align: baseline\; box-sizing: border-box\;"><strong style="font-family: inherit\; margin: 0px\; padding: 0px\; border: 0px\; font-style: inherit\; font-variant: inherit\; font-weight: bold\; font-stretch: inherit\; font-size: inherit\; line-height: inherit\; font-optical-sizing: inherit\; font-size-adjust: inherit\; font-kerning: inherit\; font-feature-settings: inherit\; font-variation-settings: inherit\; vertical-align: baseline\; box-sizing: border-box\;">Four (4) complimentary tickets to attend our 3rd Annual DAD GAMES 2026\, &nbsp\;so you can come back next year to defend your title and your honor!</strong></li>\n</ul>\n\n<p style="font-family: &quot\;Open Sans&quot\;\, Arial\; margin: 0px 0px 20px\; padding: 0px\; border: 0px\; font-variant-numeric: inherit\; font-variant-east-asian: inherit\; font-variant-alternates: inherit\; font-variant-position: inherit\; font-variant-emoji: inherit\; font-stretch: inherit\; font-size: medium\; line-height: 1.5em\; font-optical-sizing: inherit\; font-size-adjust: inherit\; font-kerning: inherit\; font-feature-settings: inherit\; font-variation-settings: inherit\; vertical-align: baseline\; box-sizing: border-box\; color: rgb(0\, 0\, 0)\;">&nbsp\;</p>\n\n<p style="font-family: &quot\;Open Sans&quot\;\, Arial\; margin: 0px 0px 20px\; padding: 0px\; border: 0px\; font-variant-numeric: inherit\; font-variant-east-asian: inherit\; font-variant-alternates: inherit\; font-variant-position: inherit\; font-variant-emoji: inherit\; font-stretch: inherit\; font-size: medium\; line-height: 1.5em\; font-optical-sizing: inherit\; font-size-adjust: inherit\; font-kerning: inherit\; font-feature-settings: inherit\; font-variation-settings: inherit\; vertical-align: baseline\; box-sizing: border-box\; color: rgb(0\, 0\, 0)\;"><strong style="font-family: inherit\; margin: 0px\; padding: 0px\; border: 0px\; font-style: inherit\; font-variant: inherit\; font-weight: bold\; font-stretch: inherit\; font-size: inherit\; line-height: inherit\; font-optical-sizing: inherit\; font-size-adjust: inherit\; font-kerning: inherit\; font-feature-settings: inherit\; font-variation-settings: inherit\; vertical-align: baseline\; box-sizing: border-box\;">Your Standard DAD GAMES Ticket&nbsp\;Includes:</strong></p>\n\n<ul style="font-family: &quot\;Open Sans&quot\;\, Arial\; margin: 0px\; padding-right: 0px\; padding-left: 10px\; border: 0px\; font-variant-numeric: inherit\; font-variant-east-asian: inherit\; font-variant-alternates: inherit\; font-variant-position: inherit\; font-variant-emoji: inherit\; font-stretch: inherit\; font-size: medium\; line-height: inherit\; font-optical-sizing: inherit\; font-size-adjust: inherit\; font-kerning: inherit\; font-feature-settings: inherit\; font-variation-settings: inherit\; vertical-align: baseline\; box-sizing: border-box\; list-style-position: inside\; color: rgb(0\, 0\, 0)\;">\n	<li style="font: inherit\; margin: 0px\; padding: 0px\; border: 0px\; vertical-align: baseline\; box-sizing: border-box\;">Entry into DAD GAMES Event</li>\n	<li style="font: inherit\; margin: 0px\; padding: 0px\; border: 0px\; vertical-align: baseline\; box-sizing: border-box\;">$20 Power Card&reg\; which is required to participate in the DAD GAMES Competition</li>\n	<li style="font: inherit\; margin: 0px\; padding: 0px\; border: 0px\; vertical-align: baseline\; box-sizing: border-box\;">Access to our mouthwatering&nbsp\;<strong style="font-family: inherit\; margin: 0px\; padding: 0px\; border: 0px\; font-style: inherit\; font-variant: inherit\; font-weight: bold\; font-stretch: inherit\; font-size: inherit\; line-height: inherit\; font-optical-sizing: inherit\; font-size-adjust: inherit\; font-kerning: inherit\; font-feature-settings: inherit\; font-variation-settings: inherit\; vertical-align: baseline\; box-sizing: border-box\;">Game Day Bytes banquet</strong></li>\n	<li style="font: inherit\; margin: 0px\; padding: 0px\; border: 0px\; vertical-align: baseline\; box-sizing: border-box\;">Unlimited soft drinks</li>\n	<li style="font: inherit\; margin: 0px\; padding: 0px\; border: 0px\; vertical-align: baseline\; box-sizing: border-box\;">Taxes &amp\; suggested 18% gratuity included</li>\n	<li style="font: inherit\; margin: 0px\; padding: 0px\; border: 0px\; vertical-align: baseline\; box-sizing: border-box\;"><strong style="font-family: inherit\; margin: 0px\; padding: 0px\; border: 0px\; font-style: inherit\; font-variant: inherit\; font-weight: bold\; font-stretch: inherit\; font-size: inherit\; line-height: inherit\; font-optical-sizing: inherit\; font-size-adjust: inherit\; font-kerning: inherit\; font-feature-settings: inherit\; font-variation-settings: inherit\; vertical-align: baseline\; box-sizing: border-box\;">*Level Up your ticket&nbsp\;</strong>for just $5.00 more &amp\; receive&nbsp\;<strong style="font-family: inherit\; margin: 0px\; padding: 0px\; border: 0px\; font-style: inherit\; font-variant: inherit\; font-weight: bold\; font-stretch: inherit\; font-size: inherit\; line-height: inherit\; font-optical-sizing: inherit\; font-size-adjust: inherit\; font-kerning: inherit\; font-feature-settings: inherit\; font-variation-settings: inherit\; vertical-align: baseline\; box-sizing: border-box\;">Unlimited Video Game Play</strong></li>\n</ul>\n\n<p style="font-family: &quot\;Open Sans&quot\;\, Arial\; margin: 0px 0px 20px\; padding: 0px\; border: 0px\; font-variant-numeric: inherit\; font-variant-east-asian: inherit\; font-variant-alternates: inherit\; font-variant-position: inherit\; font-variant-emoji: inherit\; font-stretch: inherit\; font-size: medium\; line-height: 1.5em\; font-optical-sizing: inherit\; font-size-adjust: inherit\; font-kerning: inherit\; font-feature-settings: inherit\; font-variation-settings: inherit\; vertical-align: baseline\; box-sizing: border-box\; color: rgb(0\, 0\, 0)\;">&nbsp\;</p>\n\n<p style="font-family: &quot\;Open Sans&quot\;\, Arial\; margin: 0px 0px 20px\; padding: 0px\; border: 0px\; font-variant-numeric: inherit\; font-variant-east-asian: inherit\; font-variant-alternates: inherit\; font-variant-position: inherit\; font-variant-emoji: inherit\; font-stretch: inherit\; font-size: medium\; line-height: 1.5em\; font-optical-sizing: inherit\; font-size-adjust: inherit\; font-kerning: inherit\; font-feature-settings: inherit\; font-variation-settings: inherit\; vertical-align: baseline\; box-sizing: border-box\; color: rgb(0\, 0\, 0)\;"><strong style="font-family: inherit\; margin: 0px\; padding: 0px\; border: 0px\; font-style: inherit\; font-variant: inherit\; font-weight: bold\; font-stretch: inherit\; font-size: inherit\; line-height: inherit\; font-optical-sizing: inherit\; font-size-adjust: inherit\; font-kerning: inherit\; font-feature-settings: inherit\; font-variation-settings: inherit\; vertical-align: baseline\; box-sizing: border-box\;">DAD BONUS:</strong><br />\nThe&nbsp\;<strong style="font-family: inherit\; margin: 0px\; padding: 0px\; border: 0px\; font-style: inherit\; font-variant: inherit\; font-weight: bold\; font-stretch: inherit\; font-size: inherit\; line-height: inherit\; font-optical-sizing: inherit\; font-size-adjust: inherit\; font-kerning: inherit\; font-feature-settings: inherit\; font-variation-settings: inherit\; vertical-align: baseline\; box-sizing: border-box\;">first 100 families that purchase tickets</strong>&nbsp\;will score an exclusive&nbsp\;<strong style="font-family: inherit\; margin: 0px\; padding: 0px\; border: 0px\; font-style: inherit\; font-variant: inherit\; font-weight: bold\; font-stretch: inherit\; font-size: inherit\; line-height: inherit\; font-optical-sizing: inherit\; font-size-adjust: inherit\; font-kerning: inherit\; font-feature-settings: inherit\; font-variation-settings: inherit\; vertical-align: baseline\; box-sizing: border-box\;">DAD GAMES&nbsp\;Baseball Hat for their&nbsp\;</strong>#1 Dad!</p>\n\n<p style="font-family: &quot\;Open Sans&quot\;\, Arial\; margin: 0px 0px 20px\; padding: 0px\; border: 0px\; font-variant-numeric: inherit\; font-variant-east-asian: inherit\; font-variant-alternates: inherit\; font-variant-position: inherit\; font-variant-emoji: inherit\; font-stretch: inherit\; font-size: medium\; line-height: 1.5em\; font-optical-sizing: inherit\; font-size-adjust: inherit\; font-kerning: inherit\; font-feature-settings: inherit\; font-variation-settings: inherit\; vertical-align: baseline\; box-sizing: border-box\; color: rgb(0\, 0\, 0)\;"><strong style="font-family: inherit\; margin: 0px\; padding: 0px\; border: 0px\; font-style: inherit\; font-variant: inherit\; font-weight: bold\; font-stretch: inherit\; font-size: inherit\; line-height: inherit\; font-optical-sizing: inherit\; font-size-adjust: inherit\; font-kerning: inherit\; font-feature-settings: inherit\; font-variation-settings: inherit\; vertical-align: baseline\; box-sizing: border-box\;">Game Day Bytes Banquet Menu:</strong><br />\nFlatbread Cheese Pizza\, Mini All-Beef Pretzel Dogs\, Boneless Wings\, Garlic Butter Pretzel Sticks with Marinara\, French Fries &amp\; Unlimited Soft Drinks.</p>\n\n<p style="font-family: &quot\;Open Sans&quot\;\, Arial\; margin: 0px 0px 20px\; padding: 0px\; border: 0px\; font-variant-numeric: inherit\; font-variant-east-asian: inherit\; font-variant-alternates: inherit\; font-variant-position: inherit\; font-variant-emoji: inherit\; font-stretch: inherit\; font-size: medium\; line-height: 1.5em\; font-optical-sizing: inherit\; font-size-adjust: inherit\; font-kerning: inherit\; font-feature-settings: inherit\; font-variation-settings: inherit\; vertical-align: baseline\; box-sizing: border-box\; color: rgb(0\, 0\, 0)\;">Spots are limited and the competition is heating up!</p>\n\n<p style="font-family: &quot\;Open Sans&quot\;\, Arial\; margin: 0px 0px 20px\; padding: 0px\; border: 0px\; font-variant-numeric: inherit\; font-variant-east-asian: inherit\; font-variant-alternates: inherit\; font-variant-position: inherit\; font-variant-emoji: inherit\; font-stretch: inherit\; font-size: medium\; line-height: 1.5em\; font-optical-sizing: inherit\; font-size-adjust: inherit\; font-kerning: inherit\; font-feature-settings: inherit\; font-variation-settings: inherit\; vertical-align: baseline\; box-sizing: border-box\; color: rgb(0\, 0\, 0)\;"><strong style="font-family: inherit\; margin: 0px\; padding: 0px\; border: 0px\; font-style: inherit\; font-variant: inherit\; font-weight: bold\; font-stretch: inherit\; font-size: inherit\; line-height: inherit\; font-optical-sizing: inherit\; font-size-adjust: inherit\; font-kerning: inherit\; font-feature-settings: inherit\; font-variation-settings: inherit\; vertical-align: baseline\; box-sizing: border-box\;">Secure your tickets today and bring your A-game\, costumes\, cheers\, and all!</strong></p>\n
LOCATION:Dave & Buster's Anchorage
UID:e.1417.14510
SEQUENCE:3
DTSTAMP:20260422T072012Z
URL:https://business.anchoragechamber.org/events/details/dad-games-2025-14510
END:VEVENT

END:VCALENDAR
