BEGIN:VCALENDAR
VERSION:2.0
PRODID:-//ChamberMaster//Event Calendar 2.0//EN
METHOD:PUBLISH
X-PUBLISHED-TTL:P3D
REFRESH-INTERVAL:P3D
CALSCALE:GREGORIAN
BEGIN:VEVENT
DTSTART:20210629T003000Z
DTEND:20210629T020000Z
X-MICROSOFT-CDO-ALLDAYEVENT:FALSE
SUMMARY:Customer Discovery Summer Intensive
DESCRIPTION:Have a great idea but don't know if anyone else thinks so? Concerned about solving a problem that doesn't exist? Increase your chances of success by testing your idea during this customer discovery intensive and gain the insight you need to take the next step forward. We'll teach you to question your core assumptions about your idea/business by digging deep into your customer's desires and problems. This is an interactive series of workshops and you'll spend much of your time doing weekly fieldwork\, interviewing potential customers\, and refining your value hypothesis.\n\n\n\nSIGN UP: https://forms.gle/85z8Gef5M4tBCY336\n\n\n\nOur team has delivered training for early-stage entrepreneurs across Alaska\, and we've learned that many of the entrepreneurs we work with need more knowledge of their customers BEFORE investing too much time and money into their ideas. Through this intensive we're providing idea-stage entrepreneurs with the tools to engage in meaningful\, useful customer discovery\, before they quit their day jobs! And if you've already launched\, it's not too late - this work will help you refine or pivot your business.\n\nOur curriculum blends elements of traditional customer discovery with design thinking and will help you find product-market fit. It's hands-on\, engaging\, and FUN. The intensive is open to founders at all stages of business and is free. Four sessions will be delivered via Zoom:\n\n\n\nSession 1 - June 28th\, 4:30pm - 6pm: Intro to customer discovery\n\nSession 2 - July 1st\, 4:30pm - 6pm: Asking the right questions\n\nSession 3 - July 8th\, 4:30pm - 6pm: Refine your Value Hypothesis and Create your Usability Hypothesis\n\nSession 4 - July 15th\, 4:30pm - 6pm: Final Presentations!\n\n\n\nREGISTER BY JUNE 25 at https://forms.gle/85z8Gef5M4tBCY336
X-ALT-DESC;FMTTYPE=text/html:<div>Have a great idea but don&rsquo\;t know if anyone else thinks so? Concerned about solving a problem that doesn&#39\;t exist? Increase your chances of success by testing your idea during this customer discovery intensive and gain the insight you need to take the next step forward. We&rsquo\;ll teach you to question your core assumptions about your idea/business by digging deep into your customer&rsquo\;s desires and problems. This is an interactive series of workshops and you&rsquo\;ll spend much of your time doing weekly fieldwork\, interviewing potential customers\, and refining your value hypothesis.</div>\n\n<div><br />\nSIGN UP:&nbsp\;<a href="https://forms.gle/85z8Gef5M4tBCY336?fbclid=IwAR1xr7cDeXeE3nj0PilJro8JAHRnNs-bSb7xFXzPcJ9JdOSiN2-4npUmHbQ" rel="nofollow" role="link" tabindex="0" target="_blank">https://forms.gle/85z8Gef5M4tBCY336</a></div>\n\n<div><br />\nOur team has delivered training for early-stage entrepreneurs across Alaska\, and we&rsquo\;ve learned that many of the entrepreneurs we work with need more knowledge of their customers BEFORE investing too much time and money into their ideas. Through this intensive we&rsquo\;re providing idea-stage entrepreneurs with the tools to engage in meaningful\, useful customer discovery\, before they quit their day jobs! And if you&rsquo\;ve already launched\, it&rsquo\;s not too late - this work will help you refine or pivot your business.</div>\n\n<div>Our curriculum blends elements of traditional customer discovery with design thinking and will help you find product-market fit. It&rsquo\;s hands-on\, engaging\, and FUN. The intensive is open to founders at all stages of business and is free. Four sessions will be delivered via Zoom:</div>\n\n<div><br />\nSession 1 - June 28th\, 4:30pm - 6pm: Intro to customer discovery<br />\nSession 2 - July 1st\, 4:30pm - 6pm: Asking the right questions<br />\nSession 3 - July 8th\, 4:30pm - 6pm: Refine your Value Hypothesis and Create your Usability Hypothesis<br />\nSession 4 - July 15th\, 4:30pm - 6pm: Final Presentations!</div>\n\n<div><br />\nREGISTER BY JUNE 25 at&nbsp\;<a href="https://forms.gle/85z8Gef5M4tBCY336" rel="nofollow" role="link" tabindex="0" target="_blank">https://forms.gle/85z8Gef5M4tBCY336</a></div>\n
LOCATION:Online
UID:e.1417.9717
SEQUENCE:3
DTSTAMP:20260422T175304Z
URL:https://business.anchoragechamber.org/events/details/customer-discovery-summer-intensive-9717
END:VEVENT

END:VCALENDAR
