BEGIN:VCALENDAR
VERSION:2.0
PRODID:-//ChamberMaster//Event Calendar 2.0//EN
METHOD:PUBLISH
X-PUBLISHED-TTL:P3D
REFRESH-INTERVAL:P3D
CALSCALE:GREGORIAN
BEGIN:VEVENT
DTSTART:20250622T000000Z
DTEND:20250622T020000Z
X-MICROSOFT-CDO-ALLDAYEVENT:FALSE
SUMMARY:CU1 Member Appreciation Day Anchorage
DESCRIPTION:In recognition of our Anchorage members and community\, we're hosting a Member Appreciation Day at our Credit Union 1 headquarters   and you're invited!\n\n\n\nPlease join us on Saturday\, June 21 from 4-6pm for a celebration in your honor.\n\n\n\nEnjoy free food from some of our favorite local food trucks\, games\, custom giveaways and a donation opportunity to support our 2025 Anchorage Leading Change partner\, Katie's Handprint. We will match all funds raised for our nonprofit partner during the evening\, up to $5\,000.\n\n\n\nYou are welcome and encouraged to bring family and friends. We look forward to seeing you on June 21!
X-ALT-DESC;FMTTYPE=text/html:In recognition of our Anchorage members and community\, we&#39\;re hosting a <strong>Member Appreciation Day</strong> at our Credit Union 1 headquarters &ndash\; and you&#39\;re invited!<br />\n<br />\nPlease join us on Saturday\, June 21 from 4-6pm for a celebration in your honor.<br />\n<br />\nEnjoy free food from some of our favorite local food trucks\, games\, custom giveaways and a donation opportunity to support our 2025 Anchorage Leading Change partner\, Katie&#39\;s Handprint. We will match all funds raised for our nonprofit partner during the evening\, <em>up to $5\,000</em>.<br />\n<br />\nYou are welcome and encouraged to bring family and friends. We look forward to seeing you on June 21!
LOCATION:1941 Abbott Road Anchorage\, Alaska 99507
UID:e.1417.14516
SEQUENCE:3
DTSTAMP:20260422T032053Z
URL:https://business.anchoragechamber.org/events/details/cu1-member-appreciation-day-anchorage-14516
END:VEVENT

END:VCALENDAR
