BEGIN:VCALENDAR
VERSION:2.0
PRODID:-//ChamberMaster//Event Calendar 2.0//EN
METHOD:PUBLISH
X-PUBLISHED-TTL:P3D
REFRESH-INTERVAL:P3D
CALSCALE:GREGORIAN
BEGIN:VEVENT
DTSTART:20250517T193000Z
DTEND:20250518T010000Z
X-MICROSOFT-CDO-ALLDAYEVENT:FALSE
SUMMARY:Cruise for a Cause
DESCRIPTION:Kenai Fjords Tours is partnering with the American Red Cross of Alaska for a special Cruise for a Cause. Our mission is to help people prepare for\, respond to and recover from disasters of all kinds\, in the face of increasingly severe climate-related emergencies. Join us as we help to raise funds for disaster relief and awareness\, allowing Alaskans to prepare for and recover from these events big and small across the 49th state. Proceeds made for the benefit of Red Cross of Alaska
X-ALT-DESC;FMTTYPE=text/html:Kenai Fjords Tours is partnering with the American Red Cross of Alaska for a special Cruise for a Cause. Our mission is to help people prepare for\, respond to and recover from disasters of all kinds\, in the face of increasingly severe climate-related emergencies. Join us as we help to raise funds for disaster relief and awareness\, allowing Alaskans to prepare for and recover from these events big and small across the 49th state. Proceeds made for the benefit of Red Cross of Alaska
LOCATION:Seward - Kenai Fjords Tours
UID:e.1417.14142
SEQUENCE:3
DTSTAMP:20260423T075257Z
URL:https://business.anchoragechamber.org/events/details/cruise-for-a-cause-14142
END:VEVENT

END:VCALENDAR
