BEGIN:VCALENDAR
VERSION:2.0
PRODID:-//ChamberMaster//Event Calendar 2.0//EN
METHOD:PUBLISH
X-PUBLISHED-TTL:P3D
REFRESH-INTERVAL:P3D
CALSCALE:GREGORIAN
BEGIN:VEVENT
DTSTART:20210925T200000Z
DTEND:20210926T020000Z
X-MICROSOFT-CDO-ALLDAYEVENT:FALSE
SUMMARY:Canamo Concentrates Vendor Day!
DESCRIPTION:Alaska Cannabis Exchange invited Canamo Concentrates to come hang out with us Saturday\, September 25th\, 2021. There will be a small market with local vendors\, food trucks\, yard games\, and live music from Beeone and Lloyds Noize. Come join us in our awesome backyard for some fun!!
X-ALT-DESC;FMTTYPE=text/html:Alaska Cannabis Exchange invited Canamo Concentrates to come hang out with us Saturday\, September 25th\, 2021. There will be a small market with local vendors\, food trucks\, yard games\, and live music from Beeone and Lloyds Noize. Come join us in our awesome backyard for some fun!!
LOCATION:2906 Spenard Rd\, Anchorage\, Ak 99503
UID:e.1417.10020
SEQUENCE:3
DTSTAMP:20260423T092418Z
URL:https://business.anchoragechamber.org/events/details/canamo-concentrates-vendor-day-10020
END:VEVENT

END:VCALENDAR
