BEGIN:VCALENDAR
VERSION:2.0
PRODID:-//ChamberMaster//Event Calendar 2.0//EN
METHOD:PUBLISH
X-PUBLISHED-TTL:P3D
REFRESH-INTERVAL:P3D
CALSCALE:GREGORIAN
BEGIN:VEVENT
DTSTART:20201118T003000Z
DTEND:20201118T013000Z
X-MICROSOFT-CDO-ALLDAYEVENT:FALSE
SUMMARY:Business To Business Referral Networking
DESCRIPTION:Does your business rely on B2B referrals? Has this year's pandemic been putting a cramp in your business? If so\, please join us for our virtual referral networking event! \n\n\n\nThe Agenda will be as follows:\n\n3:30 - 3:40 p.m. Welcome (Join us at the "Main Stage" for a short platform review)\n\n3:30 - 4:00 p.m. Expo(New to HopIn? Check out the Networking Training Booth in the Expo)\n\n3:30 - 4 :00 pm. Expo(Check out the Anchorage Chamber and D2D virtual booths)\n\n3:40 - 4:25 p.m. Sessions(Up to 5 people can join a "table" to share a group networking experence) \n\n3:40 - 4:25 p.m. Networking (Participants are matched randomly for a 5 minute speed networking experience)\n\n4:25 - 4:30 p.m. Closing Comments(Please rejoin us at the "Main Stage" to close out the event)\n\n\n\nThis event is sponsored by Dare2Dream Leadership Development.
X-ALT-DESC;FMTTYPE=text/html:Does your business rely on B2B referrals? Has this year&#39\;s pandemic been putting a cramp in your business? If so\, please join us for our virtual referral networking event!&nbsp\;<br />\n<br />\nThe Agenda will be as follows:<br />\n3:30 - 3:40 p.m. Welcome (Join us at the &quot\;Main Stage&quot\; for a short platform review)<br />\n3:30 - 4:00 p.m. Expo(New to HopIn? Check out the Networking Training Booth in the Expo)<br />\n3:30 - 4 :00 pm. Expo(Check out the Anchorage Chamber and D2D virtual booths)<br />\n3:40 - 4:25 p.m. Sessions(Up to 5 people can join a &quot\;table&quot\; to share a group networking experence)&nbsp\;<br />\n3:40 - 4:25 p.m. Networking (Participants are matched randomly for a 5 minute speed networking experience)<br />\n4:25 - 4:30 p.m. Closing Comments(Please rejoin us at the &quot\;Main Stage&quot\; to close out the event)<br />\n<br />\nThis event is sponsored by <a href="http://www.d2dleadership.com">Dare2Dream Leadership Development</a>.
LOCATION:HopIn Virtual Platform: https://hopin.to/events/business-to-business-virtual-networking *Please take time to set up your HopIn Virtual Profile prior to the event Here is a link to the training video: https://youtu.be/4_IiqPzNhHI
UID:e.1417.8759
SEQUENCE:3
DTSTAMP:20260421T114256Z
URL:https://business.anchoragechamber.org/events/details/business-to-business-referral-networking-11-17-2020-8759
END:VEVENT

END:VCALENDAR
