BEGIN:VCALENDAR
VERSION:2.0
PRODID:-//ChamberMaster//Event Calendar 2.0//EN
METHOD:PUBLISH
X-PUBLISHED-TTL:P3D
REFRESH-INTERVAL:P3D
CALSCALE:GREGORIAN
BEGIN:VEVENT
DTSTART:20251017T010000Z
DTEND:20251017T030000Z
X-MICROSOFT-CDO-ALLDAYEVENT:FALSE
SUMMARY:Business After Hours hosted by Locally Grown Restaurants
DESCRIPTION:Join us for an evening of great food\, community\, and connection at South Restaurant + Coffeehouse!\n\n\n\nThis Business After Hours will feature co-hosts and community partners\, live engagement\, and plenty of delicious bites to enjoy while networking in a fun and relaxed environment.\n\n\n\n  Event Details\n\n\n	  Location: South Restaurant + Coffeehouse\n	  Date: Thursday\, October 16\n	  Time: 5:00   7:00 PM\n\n\n  What to Expect\n\n\n	Appetizers prepared by the UAA Culinary Program\n	Firepit S'mores & non-alcoholic beverages from South\n	Wine & beer hosted\, cocktails available for purchase\n	Fun in the Coffeehouse   bingo\, trivia\, and more!\n\n\n  Community Partners\n\n\n	Covenant House Alaska   promoting their November Sleep Out\n	Food Bank of Alaska   highlighting Restaurant Week\, kicking off the following Monday\n\n\n\n\nBring your colleagues\, enjoy the Back Room\, Patio\, Bar\, and Coffeehouse\, and help us celebrate the amazing impact of locally grown restaurants in Anchorage!\n\n\n\nDONATE A DOOR PRIZE
X-ALT-DESC;FMTTYPE=text/html:<p style="text-align: center\;"><span style="font-size:18px\;"><strong>Join us for an evening of great food\, community\, and connection at South Restaurant +&nbsp\;Coffeehouse!</strong></span></p>\n\n<p><br />\nThis Business After Hours will feature co-hosts and community partners\, live engagement\, and plenty of delicious bites to enjoy while networking in a fun and relaxed environment.<br />\n<br />\n&#10024\; Event Details</p>\n\n<ul>\n	<li>&#128205\; Location: South Restaurant + Coffeehouse</li>\n	<li>&#128197\; Date: Thursday\, October 16</li>\n	<li>&#9200\; Time: 5:00 &ndash\; 7:00 PM</li>\n</ul>\n\n<p>&#127860\; What to Expect</p>\n\n<ul>\n	<li>Appetizers prepared by the UAA Culinary Program</li>\n	<li>Firepit S&rsquo\;mores &amp\; non-alcoholic beverages from South</li>\n	<li>Wine &amp\; beer hosted\, cocktails available for purchase</li>\n	<li>Fun in the Coffeehouse &mdash\; bingo\, trivia\, and more!</li>\n</ul>\n\n<p>&#129309\; Community Partners</p>\n\n<ul>\n	<li>Covenant House Alaska &ndash\; promoting their November Sleep Out</li>\n	<li>Food Bank of Alaska &ndash\; highlighting Restaurant Week\, kicking off the following Monday</li>\n</ul>\n\n<p><br />\nBring your colleagues\, enjoy the Back Room\, Patio\, Bar\, and Coffeehouse\, and help us celebrate the amazing impact of locally grown restaurants in Anchorage!<br />\n<br />\n<a href="https://form.jotform.com/242197249944064" target="_blank">DONATE A DOOR PRIZE</a></p>\n
LOCATION:South Restaurant + Coffeehouse 11124 Old Seward Hwy
UID:e.1417.13989
SEQUENCE:3
DTSTAMP:20260423T002731Z
URL:https://business.anchoragechamber.org/events/details/business-after-hours-hosted-by-locally-grown-restaurants-13989
END:VEVENT

END:VCALENDAR
